BEGIN:VCALENDAR
PRODID:NingEventWidget-v1
VERSION:2.0
METHOD:PUBLISH
BEGIN:VTIMEZONE
TZID:Europe/Paris
X-LIC-LOCATION:Europe/Paris
BEGIN:DAYLIGHT
TZOFFSETFROM:+0100
TZOFFSETTO:+0200
TZNAME:CEST
DTSTART:19700329T020000
RRULE:FREQ=YEARLY;BYMONTH=3;BYDAY=-1SU
END:DAYLIGHT
BEGIN:STANDARD
TZOFFSETFROM:+0200
TZOFFSETTO:+0100
TZNAME:CET
DTSTART:19701025T030000
RRULE:FREQ=YEARLY;BYMONTH=10;BYDAY=-1SU
END:STANDARD
END:VTIMEZONE
BEGIN:VEVENT
UID:2485226:Event:2892320
DTSTAMP:20260421T223831Z
SUMMARY:Les Rendez-vous pour Soi
DESCRIPTION:Les Rendez-vous pour Soi sont une occasion d'apprendre et 
 de mettre en pratique des exercices simples de relaxation, détente et
  bien-être. Le thème de ce mardi est : \"Prendre conscience de Soi\"
 .\nLimité à 10 personnes. Réservation obligatoire.\n\nPour plus d'i
 nformation, aller sur https://epanews.fr/events/les-rendez-vous-pour-s
 oi
DTSTART;TZID=Europe/Paris:20171107T183000
DTEND;TZID=Europe/Paris:20171107T200000
CATEGORIES:29
LOCATION:Edern
WEBSITE:http://emren29.wixsite.com/emren
URL:http://emren29.wixsite.com/emren
CONTACT:0635978804
ORGANIZER;CN=Dine29emren:https://epanews.fr/profile/Dine29emren
ATTACH;FMTTYPE="image/jpeg":http://storage.ning.com/topology/rest/1.0/
 file/get/1663695276?profile=original
ATTENDEE;ROLE=REQ-PARTICIPANT;PARTSTAT=ACCEPTED;RSVP=TRUE;CN=Dine29emr
 en:https://epanews.fr/profile/Dine29emren
END:VEVENT
END:VCALENDAR
