BEGIN:VCALENDAR
PRODID:NingEventWidget-v1
VERSION:2.0
METHOD:PUBLISH
BEGIN:VTIMEZONE
TZID:Europe/Paris
X-LIC-LOCATION:Europe/Paris
BEGIN:DAYLIGHT
TZOFFSETFROM:+0100
TZOFFSETTO:+0200
TZNAME:CEST
DTSTART:19700329T020000
RRULE:FREQ=YEARLY;BYMONTH=3;BYDAY=-1SU
END:DAYLIGHT
BEGIN:STANDARD
TZOFFSETFROM:+0200
TZOFFSETTO:+0100
TZNAME:CET
DTSTART:19701025T030000
RRULE:FREQ=YEARLY;BYMONTH=10;BYDAY=-1SU
END:STANDARD
END:VTIMEZONE
BEGIN:VEVENT
UID:2485226:Event:2729857
DTSTAMP:20260422T212212Z
SUMMARY:Les rendez-vous du chercheur \"Les Sens, reflets de la Conscie
 nce !\"
DESCRIPTION:Les Sens, reflets de la Conscience !\n\"Les cinq couleurs 
 rendent les yeux de l'homme aveugles, les cinq sons rendent ses oreill
 es sourdes, les cinq saveurs rendent sa bouche inapte à savourer.\nLe
 s courses violentes et le galop des chasses déchaînent, dans son cœ
 ur, de furieuses passions.\nLes biens difficiles à acquérir font qu'
 il se heurte à de dangereux obstacles.\nC'est pourquoi le saint homme
  s'occupe de l'intérieur et non des sens. \n Il rejette ceci et ado
 pte Cela.\"\nExtrait du « Tao Te King »\n \nPourquoi Lao Tseu, vi
 vant au VIème siècle avant Jésus-Christ  s’exprimait-Il avec tan
 t d’absolu ?\nRenseignements et inscriptions 06 60 05 97 97 Alain ou
  rose-croix-d-or@hotmail.fr\nPensez à nous indiquer votre identifiant
  skype !\n(places limitées à 8 personnes)\n\nPour plus d'information
 , aller sur https://epanews.fr/events/les-rendez-vous-du-chercheur-les
 -sens-reflets-de-la-conscience-7
DTSTART;TZID=Europe/Paris:20161025T203000
DTEND;TZID=Europe/Paris:20161025T223000
CATEGORIES:29
LOCATION:par SKYPE
WEBSITE:http://rennes.rose-croix-d-or.org/
URL:http://rennes.rose-croix-d-or.org/
CONTACT:0660059797
ORGANIZER;CN=RoseCroix:https://epanews.fr/profile/RoseCroix
ATTACH;FMTTYPE="image/jpeg":http://storage.ning.com/topology/rest/1.0/
 file/get/1663606735?profile=original
ATTENDEE;ROLE=REQ-PARTICIPANT;PARTSTAT=ACCEPTED;RSVP=TRUE;CN=RoseCroix
 :https://epanews.fr/profile/RoseCroix
END:VEVENT
END:VCALENDAR
