BEGIN:VCALENDAR
PRODID:NingEventWidget-v1
VERSION:2.0
METHOD:PUBLISH
BEGIN:VTIMEZONE
TZID:Europe/Paris
X-LIC-LOCATION:Europe/Paris
BEGIN:DAYLIGHT
TZOFFSETFROM:+0100
TZOFFSETTO:+0200
TZNAME:CEST
DTSTART:19700329T020000
RRULE:FREQ=YEARLY;BYMONTH=3;BYDAY=-1SU
END:DAYLIGHT
BEGIN:STANDARD
TZOFFSETFROM:+0200
TZOFFSETTO:+0100
TZNAME:CET
DTSTART:19701025T030000
RRULE:FREQ=YEARLY;BYMONTH=10;BYDAY=-1SU
END:STANDARD
END:VTIMEZONE
BEGIN:VEVENT
UID:2485226:Event:3041428
DTSTAMP:20260423T081107Z
SUMMARY:les rencontres divinatoires
DESCRIPTION:le premier  week end du mois d'octobre,\nvenez consultez 
 l'un de nos 5 médiums séléctionnés pour vous.\nla séance complèt
 e   45€  (1h environ - tarif salon )\nun espace detente avec enca
 s (sucré / salé), thé, café bio\net séance de massage assis seras
  à votre disposition.\n+ une  tombola bien être avec de jolis lots 
 à gagner.\npour tous renseignements :\nmail :association.aveccoeureta
 me@gmail.com\ntel : 06 68 20 87 56 (gabriel)\n\nPour plus d'informatio
 n, aller sur https://epanews.fr/events/les-rencontres-divinatoires
DTSTART;TZID=Europe/Paris:20191005T000000
DTEND;TZID=Europe/Paris:20191006T235900
CATEGORIES:83
LOCATION:83000 - TOULON
WEBSITE:
URL:
CONTACT:0668208756
ORGANIZER:association avec Coeur &amp; Âme
ATTACH;FMTTYPE="image/jpeg":https://storage.ning.com/topology/rest/1.0
 /file/get/3527104639?profile=original
ATTENDEE;ROLE=REQ-PARTICIPANT;PARTSTAT=ACCEPTED;RSVP=TRUE;CN="associat
 ion Avec Coeur &amp; Âme":https://epanews.fr/profile/AssociationAvecC
 oeurampAme
END:VEVENT
END:VCALENDAR
