BEGIN:VCALENDAR
PRODID:NingEventWidget-v1
VERSION:2.0
METHOD:PUBLISH
BEGIN:VTIMEZONE
TZID:Europe/Paris
X-LIC-LOCATION:Europe/Paris
BEGIN:DAYLIGHT
TZOFFSETFROM:+0100
TZOFFSETTO:+0200
TZNAME:CEST
DTSTART:19700329T020000
RRULE:FREQ=YEARLY;BYMONTH=3;BYDAY=-1SU
END:DAYLIGHT
BEGIN:STANDARD
TZOFFSETFROM:+0200
TZOFFSETTO:+0100
TZNAME:CET
DTSTART:19701025T030000
RRULE:FREQ=YEARLY;BYMONTH=10;BYDAY=-1SU
END:STANDARD
END:VTIMEZONE
BEGIN:VEVENT
UID:2485226:Event:2427598
DTSTAMP:20260423T232534Z
SUMMARY:Les relations amoureuses: sâ€™accueillir soi pour accueillir l
 â€™autre
DESCRIPTION:Rencontre avec Caroline Blanco\n\nQuâ€™elles soient diffic
 iles, conflictuelles ou inexistantes, nos relations ne sont toujours q
 ue le reflet de nos propres croyances. Aussi souffrantes soient-elles,
  elles sont donc toujours une opportunitÃ© de dÃ©couvrir la vÃ©ritÃ© Ã
   propos de nous-mÃªme et des croyances que nous entretenons et qui so
 nt responsables de cette souffrance.\nQuâ€™est ce qui est cru au sujet
  de nous-mÃªme, de lâ€™autre, du couple ou de lâ€™amourÂ ? Ce sont les
  questions que nous devons nous poser, car suite aux expÃ©riences que 
 nous avons vÃ©cues et des interprÃ©tations que nous en avons faites, n
 ous avons crÃ©Ã© des histoires auxquelles nous croyons maintenant. Ces
  histoires, qui semblent si vraies Ã  nos yeux peuvent pourtant Ãªtre 
 vues pour ce quâ€™elles sont et Ãªtre lÃ¢chÃ©es dÃ©finitivement, si no
 us nous donnons la peine dâ€™y plonger un instant.\nSi nous voulons co
 nnaÃ®tre lâ€™amour et le vivre pleinement, câ€™est uniquement dans lâ€
 ™accueil de soi que cela devient possible et sâ€™accueillir soi câ€™es
 t accueillir notre propre refletÂ : lâ€™autre. Â Dans cet accueil tota
 l et inconditionnel, tout peut Ãªtre vu, acceptÃ© et aimÃ© sans condit
 ion. Lâ€™amour inconditionnel nâ€™est bien que Ã§a, un amour qui aime 
 tout, qui englobe tout, qui accueille tout, sans aucune condition.\nSi
  en vous vit un dÃ©sir intense de laisser Ã©clore la vÃ©ritÃ© pour acc
 ueillir Â«Â ce qui estÂ Â» et laisser aller les histoires qui vous enf
 erment dans la souffrance, je vous invite Ã  nous rejoindre lors de ce
 t atelier.\n.\nInscriptions et modalitÃ©s :\nLes inscriptions se font 
 par mail c.blanco@guerisonintuitive.com ou par tÃ©lÃ©phone (+32(0)497.
 22.22.73)\nhttp://www.carolineblanco.com\nÂ \nInfos et tarifs :\n50â‚¬
  / la matinÃ©e de 9h30 Ã  12h30 (paiement en liquide sur place)\nÂ \nA
 dresse du lieu:\nCap Europe Appartâ€™hÃ´tel 6, rue de Bitche â€“ 67000
  STRASBOURG\n\nhttps://www.youtube.com/watch?v=iY3gdazlFtU\n\nPour plu
 s d'information, aller sur https://epanews.fr/events/les-relations-amo
 ureuses-s-accueillir-soi-pour-accueillir-l-autre
DTSTART;TZID=Europe/Paris:20150927T093000
DTEND;TZID=Europe/Paris:20150927T123000
CATEGORIES:67
LOCATION:Strasbourg
WEBSITE:http://www.carolineblanco.com
URL:http://www.carolineblanco.com
CONTACT:
ORGANIZER:Caroline Blanco
ATTACH;FMTTYPE="image/jpeg":http://storage.ning.com/topology/rest/1.0/
 file/get/1663456656?profile=original
ATTENDEE;ROLE=REQ-PARTICIPANT;PARTSTAT=ACCEPTED;RSVP=TRUE;CN=caroline:
 https://epanews.fr/profile/carolineba
END:VEVENT
END:VCALENDAR
