BEGIN:VCALENDAR
PRODID:NingEventWidget-v1
VERSION:2.0
METHOD:PUBLISH
BEGIN:VTIMEZONE
TZID:Europe/Paris
X-LIC-LOCATION:Europe/Paris
BEGIN:DAYLIGHT
TZOFFSETFROM:+0100
TZOFFSETTO:+0200
TZNAME:CEST
DTSTART:19700329T020000
RRULE:FREQ=YEARLY;BYMONTH=3;BYDAY=-1SU
END:DAYLIGHT
BEGIN:STANDARD
TZOFFSETFROM:+0200
TZOFFSETTO:+0100
TZNAME:CET
DTSTART:19701025T030000
RRULE:FREQ=YEARLY;BYMONTH=10;BYDAY=-1SU
END:STANDARD
END:VTIMEZONE
BEGIN:VEVENT
UID:2485226:Event:869837
DTSTAMP:20260421T155442Z
SUMMARY:les pouvoirs du coeur
DESCRIPTION:Les pouvoirs du cœur !\nQuand les neurosciences rejoignen
 t\n des savoirs anciens\n \n\n \n« De la science à la conscience
 ,\nce que le cœur  nous révèle»\n \n\n \n  Comment relier son
  cœur à toutes les dimensions \nCœur physique, psychique et métap
 hysique\n\nPour plus d'information, aller sur https://epanews.fr/event
 s/les-pouvoirs-du-coeur
DTSTART;TZID=Europe/Paris:20120703T090000
DTEND;TZID=Europe/Paris:20120703T230000
CATEGORIES:04
LOCATION:forcalquier
WEBSITE:http://ballenasynosotros.com.ar
URL:http://ballenasynosotros.com.ar
CONTACT:0492754279
ORGANIZER;CN="Patricia Veronica Lagier":https://epanews.fr/profile/Pat
 riciaVeronicaLagier
ATTACH;FMTTYPE="image/jpeg":
ATTENDEE;ROLE=REQ-PARTICIPANT;PARTSTAT=ACCEPTED;RSVP=TRUE;CN="Patricia
  Veronica Lagier":https://epanews.fr/profile/PatriciaVeronicaLagier
END:VEVENT
END:VCALENDAR
