BEGIN:VCALENDAR
PRODID:NingEventWidget-v1
VERSION:2.0
METHOD:PUBLISH
BEGIN:VTIMEZONE
TZID:Europe/Paris
X-LIC-LOCATION:Europe/Paris
BEGIN:DAYLIGHT
TZOFFSETFROM:+0100
TZOFFSETTO:+0200
TZNAME:CEST
DTSTART:19700329T020000
RRULE:FREQ=YEARLY;BYMONTH=3;BYDAY=-1SU
END:DAYLIGHT
BEGIN:STANDARD
TZOFFSETFROM:+0200
TZOFFSETTO:+0100
TZNAME:CET
DTSTART:19701025T030000
RRULE:FREQ=YEARLY;BYMONTH=10;BYDAY=-1SU
END:STANDARD
END:VTIMEZONE
BEGIN:VEVENT
UID:2485226:Event:2557523
DTSTAMP:20260421T163129Z
SUMMARY:Les Pleines Lunes de Dana - Célébration de la Lune du Loup
DESCRIPTION:A l'occasion de la Pleine Lune de Janvier,\nnous célébre
 rons  \"la Lune du Loup\"\nAu programme, méditation-visualisation et
  rituels de reliance avec Dame Lune pour nous nourrir de ses belles é
 nergies.\nSoirée réservée aux femmes.\nPlus d'informations et inscr
 iptions :\nwww.dana-healing-women.weebly.com\n\n\n\nPour plus d'inform
 ation, aller sur https://epanews.fr/events/les-pleines-lunes-de-dana-c
 -l-bration-de-la-lune-du-loup
DTSTART;TZID=Europe/Paris:20160123T200000
DTEND;TZID=Europe/Paris:20160123T220000
CATEGORIES:31
LOCATION:Toulouse
WEBSITE:http://www.dana-healing-women.weebly.com
URL:http://www.dana-healing-women.weebly.com
CONTACT:
ORGANIZER;CN="Dana Dea":https://epanews.fr/profile/DanaDea
ATTACH;FMTTYPE="image/jpeg":http://storage.ning.com/topology/rest/1.0/
 file/get/1663516440?profile=original
ATTENDEE;ROLE=REQ-PARTICIPANT;PARTSTAT=ACCEPTED;RSVP=TRUE;CN="Dana Dea
 ":https://epanews.fr/profile/DanaDea
END:VEVENT
END:VCALENDAR
