BEGIN:VCALENDAR
PRODID:NingEventWidget-v1
VERSION:2.0
METHOD:PUBLISH
BEGIN:VTIMEZONE
TZID:Europe/Paris
X-LIC-LOCATION:Europe/Paris
BEGIN:DAYLIGHT
TZOFFSETFROM:+0100
TZOFFSETTO:+0200
TZNAME:CEST
DTSTART:19700329T020000
RRULE:FREQ=YEARLY;BYMONTH=3;BYDAY=-1SU
END:DAYLIGHT
BEGIN:STANDARD
TZOFFSETFROM:+0200
TZOFFSETTO:+0100
TZNAME:CET
DTSTART:19701025T030000
RRULE:FREQ=YEARLY;BYMONTH=10;BYDAY=-1SU
END:STANDARD
END:VTIMEZONE
BEGIN:VEVENT
UID:2485226:Event:2933317
DTSTAMP:20260424T104916Z
SUMMARY:les plantes qui soignent samedi 16 et dimanche 17 Juin 2018
DESCRIPTION:«ECHANGE avec les PLANTES de SAISON » VENEZ APPRENDRE  
 A CREER,IDENTIFIER-TRANSFORMER.RESPECTER LES PLANTES, VOTRE CORPS, LA 
 PLANÈTE....... Ce stage concerne tout public intéressé par les plan
 tes médicinales. En milieu familial et professionnel spécialisé (th
 érapeutes,…) pour les personnes qui veulent utiliser les extraits v
 égétaux (huiles essentielles, macérâts, baumes…) dans un cadre p
 ersonnel.... *Nous pratiquerons le développement de nos sens, olfacti
 fs, vibratoire... : des huiles essentielles, des plantes fraiches, sé
 chées... *Nous transformerons les plantes de saisons ramassées, avec
  des plantes huile et macérâts. *Nous développerons les usages et 
  les bienfaits de l’ortie et du plantain...que nous trouvons facilem
 ent Vous apprendrez: *A identifier, cuisiner, transformer, dynamiser e
 t fabriquer des produits avec des plantes : Déodorants, Dentifrices, 
 Elixir Floral, Baumes de soins, Sirops, Sticks à Lèvres et Huile de 
 massage etc... (suivant vos besoins désirs, et de la météo*). Pour 
 la réalisation de vos produits, sera à votre disposition des huiles 
 essentielles, des macérâts de plantes rares comme Edelweiss, Hélich
 ryse  Italicum (Immortelle de Corse).....\nVenez Fabriquer : un déod
 orant sans aluminium, un baume à lèvres sans silicone, une crème po
 ur le visage ou les mains sans perturbateurs endocriniens, un baume ap
 rès -rasage sans parabens, un produit d’entretien sans détergent n
 ocif ...... Venez fabriquer des cosmétiques naturelles avec les Jardi
 ns d’Isabelle (repartez avec vos produits) et venez découvrir des s
 olutions durables pour un hygiène saine et zéro déchet. Préservons
  notre planète. Stages: 2 jours de 9h30 à 12h30 et 14h à 17h30. Tar
 if : 120 € hors transport et repas (100 €, pour les chômeurs*, é
 tudiants*, sans emploi* ) Lieu : Italie Via Garga n°12, La Madonna De
 l Neve 18012 Vallebona ( Ligurie, vous êtes à 45mn d’Antibes 69 km
 , dans un autre monde en pleine nature).Gare SNCF :Bordighera A votre 
 disposition le terrain pour camper sur place (petite tente) ou dormir 
 dans la maison « Italie » -Réservez à l’avance places limitées 
 sans frais supplémentaire... -Vous avez un cours d'eau à 5 mn de bal
 ade à pieds ou vous pouvez vous tremper pendant les pauses. -Vous pou
 vez consulter le site : http://lesjardinsdisabelle.jimdo.com/ me conta
 cter auTél : 0650 463 227 ou sur facetime ou whatsapp \n\nPour plus d
 'information, aller sur https://epanews.fr/events/les-plantes-qui-soig
 nent-samedi-16-et-dimanche-17-juin-2018-1
DTSTART;TZID=Europe/Paris:20180617T000000
DTEND;TZID=Europe/Paris:20180617T235900
CATEGORIES:06
LOCATION:VALLEBONA
WEBSITE:https://lesjardinsdisabelle.jimdo.com/formations-ateliers/
URL:https://lesjardinsdisabelle.jimdo.com/formations-ateliers/
CONTACT:0650463227
ORGANIZER;CN="LES JARDINS DISABELLE":https://epanews.fr/profile/LESJAR
 DINSDISABELLE
ATTACH;FMTTYPE="image/jpeg":http://storage.ning.com/topology/rest/1.0/
 file/get/1663719953?profile=original
ATTENDEE;ROLE=REQ-PARTICIPANT;PARTSTAT=ACCEPTED;RSVP=TRUE;CN="LES JARD
 INS DISABELLE":https://epanews.fr/profile/LESJARDINSDISABELLE
END:VEVENT
END:VCALENDAR
