BEGIN:VCALENDAR
PRODID:NingEventWidget-v1
VERSION:2.0
METHOD:PUBLISH
BEGIN:VTIMEZONE
TZID:Europe/Paris
X-LIC-LOCATION:Europe/Paris
BEGIN:DAYLIGHT
TZOFFSETFROM:+0100
TZOFFSETTO:+0200
TZNAME:CEST
DTSTART:19700329T020000
RRULE:FREQ=YEARLY;BYMONTH=3;BYDAY=-1SU
END:DAYLIGHT
BEGIN:STANDARD
TZOFFSETFROM:+0200
TZOFFSETTO:+0100
TZNAME:CET
DTSTART:19701025T030000
RRULE:FREQ=YEARLY;BYMONTH=10;BYDAY=-1SU
END:STANDARD
END:VTIMEZONE
BEGIN:VEVENT
UID:2485226:Event:2094522
DTSTAMP:20260424T030036Z
SUMMARY:les plaisirs de la séduction ; café-psycho sanary
DESCRIPTION:Ecoute mutuelle, débats, repas facultatif...le thème ce 
 sera: les plaisirs de la séduction. Chacun parle de soi et de ses exp
 ériences, sa vision du monde et ses désirs...\n\nPour plus d'informa
 tion, aller sur https://epanews.fr/events/les-plaisirs-de-la-s-duction
 -caf-psycho-sanary
DTSTART;TZID=Europe/Paris:20141119T193000
DTEND;TZID=Europe/Paris:20141119T210000
CATEGORIES:83
LOCATION:sanary
WEBSITE:
URL:
CONTACT:04 94 90 59 01 et 06 15 85 75 62
ORGANIZER;CN="COLLIN gilles":https://epanews.fr/profile/COLLINgilles
ATTACH;FMTTYPE="image/jpeg":
ATTENDEE;ROLE=REQ-PARTICIPANT;PARTSTAT=ACCEPTED;RSVP=TRUE;CN="COLLIN g
 illes":https://epanews.fr/profile/COLLINgilles
ATTENDEE;ROLE=REQ-PARTICIPANT;PARTSTAT=TENTATIVE;RSVP=TRUE;CN=Sandrine
 :https://epanews.fr/profile/Sandy57
END:VEVENT
END:VCALENDAR
