BEGIN:VCALENDAR
PRODID:NingEventWidget-v1
VERSION:2.0
METHOD:PUBLISH
BEGIN:VTIMEZONE
TZID:Europe/Paris
X-LIC-LOCATION:Europe/Paris
BEGIN:DAYLIGHT
TZOFFSETFROM:+0100
TZOFFSETTO:+0200
TZNAME:CEST
DTSTART:19700329T020000
RRULE:FREQ=YEARLY;BYMONTH=3;BYDAY=-1SU
END:DAYLIGHT
BEGIN:STANDARD
TZOFFSETFROM:+0200
TZOFFSETTO:+0100
TZNAME:CET
DTSTART:19701025T030000
RRULE:FREQ=YEARLY;BYMONTH=10;BYDAY=-1SU
END:STANDARD
END:VTIMEZONE
BEGIN:VEVENT
UID:2485226:Event:2592935
DTSTAMP:20260424T222134Z
SUMMARY:Les phÃ©nomÃ¨nes paranormaux
DESCRIPTION:Tout savoir sur les phÃ©nomÃ¨nes paranormaux : de la tÃ©lÃ
 ©pathie Ã  la psychokinÃ©sie, en passant par la mÃ©diumnitÃ© et la voy
 ance, Jean-Marc Harel-Ramond, psychothÃ©rapeute, dresse un inventaire 
 de ses recherches sur plus de 30 ans. Il donnera quelques exemples rÃ©
 gionaux : la dame blanche de Palavas, la maison du pendu de Caux, la m
 aison hantÃ©e de VailhauquÃ¨s, etc. Renseignements auprÃ¨s du confÃ©re
 ncier : 06 63 79 23 53 EntrÃ©e 2 euros. PS : le confÃ©rencier vient Ã 
  titre gratuit. Il ne reÃ§oit AUCUNE rÃ©munÃ©ration.\n\nPour plus d'in
 formation, aller sur https://epanews.fr/events/les-ph-nom-nes-paranorm
 aux
DTSTART;TZID=Europe/Paris:20160306T170000
DTEND;TZID=Europe/Paris:20160306T180000
CATEGORIES:84
LOCATION:Avignon Hotel adonis
WEBSITE:https://www.facebook.com/events/910075725755999/
URL:https://www.facebook.com/events/910075725755999/
CONTACT:0663792353
ORGANIZER;CN=JMHR:https://epanews.fr/profile/JMHR
ATTACH;FMTTYPE="image/jpeg":http://storage.ning.com/topology/rest/1.0/
 file/get/1663535614?profile=original
ATTENDEE;ROLE=REQ-PARTICIPANT;PARTSTAT=ACCEPTED;RSVP=TRUE;CN=JMHR:http
 s://epanews.fr/profile/JMHR
END:VEVENT
END:VCALENDAR
