BEGIN:VCALENDAR
PRODID:NingEventWidget-v1
VERSION:2.0
METHOD:PUBLISH
BEGIN:VTIMEZONE
TZID:Europe/Paris
X-LIC-LOCATION:Europe/Paris
BEGIN:DAYLIGHT
TZOFFSETFROM:+0100
TZOFFSETTO:+0200
TZNAME:CEST
DTSTART:19700329T020000
RRULE:FREQ=YEARLY;BYMONTH=3;BYDAY=-1SU
END:DAYLIGHT
BEGIN:STANDARD
TZOFFSETFROM:+0200
TZOFFSETTO:+0100
TZNAME:CET
DTSTART:19701025T030000
RRULE:FREQ=YEARLY;BYMONTH=10;BYDAY=-1SU
END:STANDARD
END:VTIMEZONE
BEGIN:VEVENT
UID:2485226:Event:2704433
DTSTAMP:20260422T150337Z
SUMMARY:Les pauses mÃ©ditatives
DESCRIPTION:Â Â Â Â  Les Pauses mÃ©ditatives sont des ateliers dâ€™app
 rentissage de la relaxation et de la mÃ©ditations avec des outils comm
 e la respiration, les mÃ©ditations guidÃ©es, les musiques de relaxatio
 n, les massages Ã  deux et les auto-massages.\nÂ Â Â Â  Cet atelier de
  mÃ©ditation-relaxation a pour but de mieux gÃ©rer son stress, prendre
  du temps pour soi, pour sâ€™Ã©vader et laisser nos soucis le temps dâ
 €™une sÃ©ance.\nDe mÃªme, grÃ¢ce Ã  de nombreux outils, il va permettr
 e de lÃ¢cher-prise et dâ€™apprendre Ã  mieux gÃ©rer son mental, ses Ã©
 motions.\nÂ Â Â Â  Les Pauses mÃ©ditatives vont permettre un Ã©quilibr
 e du corps et de lâ€™esprit.\n SÃ©ance d'1h par semaine le mardi de 19
 h Ã Â  20h  dÃ©butÂ  le mardi 13/09/2016 Ã  19h\nCotisation annuelle :
  150 eurosÂ \nContactez Vanessa MARTIN au 06.87.95.22.20 pour tout ren
 seignements ou inscription\n\nPour plus d'information, aller sur https
 ://epanews.fr/events/les-pauses-m-ditatives
DTSTART;TZID=Europe/Paris:20160913T190000
DTEND;TZID=Europe/Paris:20160913T200000
CATEGORIES:30
LOCATION:Nimes -GARD
WEBSITE:
URL:
CONTACT:06.87.95.22.20
ORGANIZER:Ã‰nergie  d'Amour- Vanessa MARTIN
ATTACH;FMTTYPE="image/jpeg":http://storage.ning.com/topology/rest/1.0/
 file/get/1663599323?profile=original
ATTENDEE;ROLE=REQ-PARTICIPANT;PARTSTAT=ACCEPTED;RSVP=TRUE;CN="Ã‰nergie
   d'Amour":https://epanews.fr/profile/PetitSoleil
END:VEVENT
END:VCALENDAR
