BEGIN:VCALENDAR
PRODID:NingEventWidget-v1
VERSION:2.0
METHOD:PUBLISH
BEGIN:VTIMEZONE
TZID:Europe/Paris
X-LIC-LOCATION:Europe/Paris
BEGIN:DAYLIGHT
TZOFFSETFROM:+0100
TZOFFSETTO:+0200
TZNAME:CEST
DTSTART:19700329T020000
RRULE:FREQ=YEARLY;BYMONTH=3;BYDAY=-1SU
END:DAYLIGHT
BEGIN:STANDARD
TZOFFSETFROM:+0200
TZOFFSETTO:+0100
TZNAME:CET
DTSTART:19701025T030000
RRULE:FREQ=YEARLY;BYMONTH=10;BYDAY=-1SU
END:STANDARD
END:VTIMEZONE
BEGIN:VEVENT
UID:2485226:Event:930231
DTSTAMP:20260421T122639Z
SUMMARY:Les mouvements archetypaux
DESCRIPTION:Les mouvements archÃ©typaux, et les pratiques douces une o
 ccasion unique de redÃ©couvrir son corps autrement et dâ€™acquÃ©rir le
 s fondamentaux pour une vie quotidienne plus harmonieuse.\nUn dimanche
  par mois de 10h Ã  12 h.- route de lornars St Jorioz ( prÃ©s d'annecy
 ) - Attention place limitÃ©es\nEncadrement: Isabelle gaubert, engagÃ©e
  dans une dÃ©marche humaniste, propose son expÃ©rience, ses compÃ©tenc
 es mais aussi des outils simples et pratiques pour Mieux Etre au Quoti
 dien !\nCoach et Formatrice. Elle permet plus particuliÃ¨rement Ã  tra
 vers la Marche, une conscience de lâ€™Ãªtre et un cheminement vers soi
  original grÃ¢ce Ã  une subtile alchimie de Â« techniques Â», de concr
 et et dâ€™invisible, traduction dâ€™un chemin de plus de 25 ans constr
 uit sur des formations en techniques corporelles diverses, en communic
 ation et en pÃ©dagogie et sâ€™appuyant sur une approche systÃ©mique.\n
 Le Plus :\n8 participants maximum..\nTarif : 30 â‚¬ le cours avec adhÃ
 ©sion Ã  lâ€™association Pas Sage( 12 â‚¬ pour lâ€™annÃ©e).\nwww.lamar
 che-autrement.com\nÂ \nÂ \nÂ \n\nPour plus d'information, aller sur ht
 tps://epanews.fr/events/les-mouvements-archetypaux
DTSTART;TZID=Europe/Paris:20121007T100000
DTEND;TZID=Europe/Paris:20121007T120000
CATEGORIES:74
LOCATION:route de lornarad St Jorioz ( prÃ©s d'annecy)
WEBSITE:
URL:
CONTACT:06 81 09 15 78
ORGANIZER;CN="GAUBERT Isabelle":https://epanews.fr/profile/GAUBERTIsab
 elle
ATTACH;FMTTYPE="image/jpeg":http://storage.ning.com/topology/rest/1.0/
 file/get/1662654598?profile=original
ATTENDEE;ROLE=REQ-PARTICIPANT;PARTSTAT=ACCEPTED;RSVP=TRUE;CN="GAUBERT 
 Isabelle":https://epanews.fr/profile/GAUBERTIsabelle
END:VEVENT
END:VCALENDAR
