BEGIN:VCALENDAR
PRODID:NingEventWidget-v1
VERSION:2.0
METHOD:PUBLISH
BEGIN:VTIMEZONE
TZID:Europe/Paris
X-LIC-LOCATION:Europe/Paris
BEGIN:DAYLIGHT
TZOFFSETFROM:+0100
TZOFFSETTO:+0200
TZNAME:CEST
DTSTART:19700329T020000
RRULE:FREQ=YEARLY;BYMONTH=3;BYDAY=-1SU
END:DAYLIGHT
BEGIN:STANDARD
TZOFFSETFROM:+0200
TZOFFSETTO:+0100
TZNAME:CET
DTSTART:19701025T030000
RRULE:FREQ=YEARLY;BYMONTH=10;BYDAY=-1SU
END:STANDARD
END:VTIMEZONE
BEGIN:VEVENT
UID:2485226:Event:2149585
DTSTAMP:20260422T124021Z
SUMMARY:Les émotions
DESCRIPTION:Les émotions  Un atelier pour aller à la rencontre de 
 ses émotions :\nPrendre le temps de les identifier et de les exprimer
  pour mieux les utiliser ! \n4 séances de 10h30 à 12h les samedi
 s :\n▪ 17 janvier\n▪ 24 janvier\n▪ 31 janvier\n▪ 7 févrie
 r\n\nSalle du Gréo au Dojo à Baden\n\nDe la théorie et des exercice
 s pratiques pour apprendre à mieux se connaître !\nTarif : 50 € l
 'atelier ​de 4 séances​\n+ 10€ d'adhésion à ALBA\n\nInformat
 ions et inscriptions auprès de Sophie Marchand au 06 03 15 28 54\nD'
 autres ateliers sur : http://sophrologie-sophiemarchand.blogspot.fr/p
 /les-stages-de-sophrologie.html\n\nSophie Marchand\nSophrologue\nPort 
 de St Goustan\n26 rue Philippe Vannier\n56400 Auray\n06.03.15.28.54\ns
 ofi.marchand@free.fr\n\n\nPour plus d'information, aller sur https://e
 panews.fr/events/les-motions
DTSTART;TZID=Europe/Paris:20150117T103000
DTEND;TZID=Europe/Paris:20150117T120000
CATEGORIES:56
LOCATION:Baden
WEBSITE:http://sophrologie-sophiemarchand.blogspot.fr/
URL:http://sophrologie-sophiemarchand.blogspot.fr/
CONTACT:0603152854
ORGANIZER;CN=Sophie:https://epanews.fr/profile/Sophie234
ATTACH;FMTTYPE="image/jpeg":http://storage.ning.com/topology/rest/1.0/
 file/get/1663276377?profile=original
ATTENDEE;ROLE=REQ-PARTICIPANT;PARTSTAT=ACCEPTED;RSVP=TRUE;CN=Sophie:ht
 tps://epanews.fr/profile/Sophie234
END:VEVENT
END:VCALENDAR
