BEGIN:VCALENDAR
PRODID:NingEventWidget-v1
VERSION:2.0
METHOD:PUBLISH
BEGIN:VTIMEZONE
TZID:Europe/Paris
X-LIC-LOCATION:Europe/Paris
BEGIN:DAYLIGHT
TZOFFSETFROM:+0100
TZOFFSETTO:+0200
TZNAME:CEST
DTSTART:19700329T020000
RRULE:FREQ=YEARLY;BYMONTH=3;BYDAY=-1SU
END:DAYLIGHT
BEGIN:STANDARD
TZOFFSETFROM:+0200
TZOFFSETTO:+0100
TZNAME:CET
DTSTART:19701025T030000
RRULE:FREQ=YEARLY;BYMONTH=10;BYDAY=-1SU
END:STANDARD
END:VTIMEZONE
BEGIN:VEVENT
UID:2485226:Event:1561985
DTSTAMP:20260423T134743Z
SUMMARY:La confiance en soi
DESCRIPTION:Développement Personnel\nla confiance en soi\nLa notion d
 e développement personnel  a des significations différentes selon 
 qu'elle est utilisée par des psychanalystes, des coachs, des éducat
 eurs sportifs, des spécialistes.\nLes objectifs du développement per
 sonnel renvoient à la connaissance de soi, par la valorisation de se
 s qualités, de ses talents, de ses potentiels, pour permettre l'amél
 ioration de la qualité de sa vie, la réalisation de ses aspirations 
 ou de ses rêves, etc.\nL’objectif de ces ateliers sera de nous aide
 r à mieux nous connaître dans le fonctionnement de notre personnalit
 é  (ego) pour gagner en confiance et en maîtrise de Soi.\nMardi 19 
 novembre 2013 à 19h30\nDuré 1h30\n\nPour plus d'information, aller s
 ur https://epanews.fr/events/les-motions-n-gatives
DTSTART;TZID=Europe/Paris:20131119T130000
DTEND;TZID=Europe/Paris:20131119T213000
CATEGORIES:13
LOCATION:Centre de Psychologie Bien-être et Santé
WEBSITE:http://www.connaissance-et-savoir.com
URL:http://www.connaissance-et-savoir.com
CONTACT:06 17 21 36 95
ORGANIZER;CN="Véronique SORRENTINO":https://epanews.fr/profile/Connai
 ssanceetSavoir
ATTACH;FMTTYPE="image/jpeg":http://storage.ning.com/topology/rest/1.0/
 file/get/1662936279?profile=original
ATTENDEE;ROLE=REQ-PARTICIPANT;PARTSTAT=ACCEPTED;RSVP=TRUE;CN="Véroniq
 ue SORRENTINO":https://epanews.fr/profile/ConnaissanceetSavoir
END:VEVENT
END:VCALENDAR
