BEGIN:VCALENDAR
PRODID:NingEventWidget-v1
VERSION:2.0
METHOD:PUBLISH
BEGIN:VTIMEZONE
TZID:Europe/Paris
X-LIC-LOCATION:Europe/Paris
BEGIN:DAYLIGHT
TZOFFSETFROM:+0100
TZOFFSETTO:+0200
TZNAME:CEST
DTSTART:19700329T020000
RRULE:FREQ=YEARLY;BYMONTH=3;BYDAY=-1SU
END:DAYLIGHT
BEGIN:STANDARD
TZOFFSETFROM:+0200
TZOFFSETTO:+0100
TZNAME:CET
DTSTART:19701025T030000
RRULE:FREQ=YEARLY;BYMONTH=10;BYDAY=-1SU
END:STANDARD
END:VTIMEZONE
BEGIN:VEVENT
UID:2485226:Event:158994
DTSTAMP:20260420T093141Z
SUMMARY:\" Les journÃ©es de la Vie \"
DESCRIPTION:Les JournÃ©es de la Vie sont une aventure humaine et frate
 rnelle.\nComme une rencontre, comme un partage, comme le miracle dâ€™Ã
 ªtre...\nDâ€™Ãªtre ensemble, en PrÃ©sence.\nLa Vie est un miracle, un 
 miracle de lâ€™Amour.\nEt câ€™est pourquoi nous vous invitons Ã  cÃ©lÃ
 ©brer la Vie, Ã  soutenir la Vie.\nLes JournÃ©es de la Vie, câ€™est un
 e ou deux journÃ©es Ã  sâ€™offrir en partage,\nÃ  offrir Ã  la Vie.\nC
 â€™est expÃ©rimenter lâ€™acte crÃ©atif comme un saut de conscience.\nC
 â€™est prendre conscience que nous sommes tous des crÃ©ateurs.\nEt des
  crÃ©ateurs conscients qui peuvent inventer un monde plus fraternel.\n
 Car pour quâ€™un autre monde soit possible, il nous suffit de le crÃ©e
 r...\nEt de ressentir quâ€™il nâ€™y a rien rien de plus subversif que 
 la Joie qui\nrayonne au creux de notre coeur. Câ€™est un weekend Ã  in
 venter la fraternitÃ©\net Ã  la vivre dans son essence poÃ©tique.\nPui
 sse la fÃ©Ã©rie de la Vie Ã©clore au fond de votre cÅ“ur. Puisse la be
 autÃ© de\nla Vie nous rÃ©unir pour cette cÃ©lÃ©bration. Puisse notre r
 egard devenir celui\nde lâ€™inclusion, celui de lâ€™unification.\nBonn
 es JournÃ©es de la Vie dans la connexion qui nous relie Ã  la crÃ©atio
 n.\nBruno Berthelot\n\n- ateliers - concerts - confÃ©rences - expositi
 ons - spectacles - tables-rondes - performances -\n\nLes 40 artistes e
 t intervenants du mieux-Ãªtre vous attendent les 20 & 21/11 dÃ¨s 10 H 
 00. Venez retrouver :\n\nMarc Vella, Suzanne Moussette, Marc Kucharz, 
 Sylvie Simon, Alain Aubry, Poumi Lescaut, MichÃ¨le Decoust, Caroline G
 uidetti, Frank Hatem, Christian Portal, Horizons IntÃ©rieurs, et bien 
 d'autres....\nTarifs : lâ€™une des 2 journÃ©es : 40 â‚¬ ; le pass pour
  les 2 jours : 60 â‚¬\nGratuitÃ© pour les enfants\nToutes le programme
  sur : http://www.lesjourneesdelavie.eu\n\nPour plus d'information, al
 ler sur https://epanews.fr/events/les-journees-de-la-vie-1
DTSTART;TZID=Europe/Paris:20101120T103000
DTEND;TZID=Europe/Paris:20101121T223000
CATEGORIES:75
LOCATION:Paris
WEBSITE:
URL:
CONTACT:
ORGANIZER:Bruno Berthelot
ATTACH;FMTTYPE="image/jpeg":http://storage.ning.com/topology/rest/1.0/
 file/get/1662364023?profile=original
ATTENDEE;ROLE=REQ-PARTICIPANT;PARTSTAT=ACCEPTED;RSVP=TRUE;CN="Roger's"
 :https://epanews.fr/profile/Rogers
END:VEVENT
END:VCALENDAR
