BEGIN:VCALENDAR
PRODID:NingEventWidget-v1
VERSION:2.0
METHOD:PUBLISH
BEGIN:VTIMEZONE
TZID:Europe/Paris
X-LIC-LOCATION:Europe/Paris
BEGIN:DAYLIGHT
TZOFFSETFROM:+0100
TZOFFSETTO:+0200
TZNAME:CEST
DTSTART:19700329T020000
RRULE:FREQ=YEARLY;BYMONTH=3;BYDAY=-1SU
END:DAYLIGHT
BEGIN:STANDARD
TZOFFSETFROM:+0200
TZOFFSETTO:+0100
TZNAME:CET
DTSTART:19701025T030000
RRULE:FREQ=YEARLY;BYMONTH=10;BYDAY=-1SU
END:STANDARD
END:VTIMEZONE
BEGIN:VEVENT
UID:2485226:Event:2705563
DTSTAMP:20260422T104331Z
SUMMARY:Les instants privilégiés
DESCRIPTION:     Les Instants privilégiés sont des ateliers s’
 adressant aux parents, grands-parents et tatas/tontons afin de partage
 r avec leurs enfants, petits-enfants et nièces/neveux un moment de pa
 rtage, de complicité autour d’une activité commune.\n     Les 
 enfants doivent être âgés entre 1 an et 7 ans.\n     Ce moment 
 de partage va permettre à l’enfant et l’adulte de tisser une rela
 tion forte, privilégiée et ainsi permettre l ’épanouissement tan
 t de l’enfant que de l’adulte.\nModules d'activité:\n-Éveil spor
 tif : jeu avec une balle en mousse, de ping-pong, gym, échauffement, 
 jeu avec des quilles, cerceaux etc.…\n-- Éveil des sens : éveil pa
 r la musique, expression corporelle, petites chorégraphies de danse, 
 éveil a la relaxation, éveil au massage  Séance d'1h par semaine le
  mardi  de 16h30 à 17h30  Cours d’essai le mardi 13/09/2016 à 16h
 30\nCotisation annuelle : 150 euros \nContactez Vanessa MARTIN au 06.
 87.95.22.20 pour des renseignements ou inscriptions\n\nPour plus d'inf
 ormation, aller sur https://epanews.fr/events/les-instants-privil-gi-s
DTSTART;TZID=Europe/Paris:20160913T163000
DTEND;TZID=Europe/Paris:20160913T173000
CATEGORIES:30
LOCATION:Nimes -GARD
WEBSITE:
URL:
CONTACT:06.87.95.22.20
ORGANIZER:Énergie  d'Amour- Vanessa MARTIN
ATTACH;FMTTYPE="image/jpeg":http://storage.ning.com/topology/rest/1.0/
 file/get/1663597450?profile=original
ATTENDEE;ROLE=REQ-PARTICIPANT;PARTSTAT=ACCEPTED;RSVP=TRUE;CN="Énergie
   d'Amour":https://epanews.fr/profile/PetitSoleil
END:VEVENT
END:VCALENDAR
