BEGIN:VCALENDAR
PRODID:NingEventWidget-v1
VERSION:2.0
METHOD:PUBLISH
BEGIN:VTIMEZONE
TZID:Europe/Paris
X-LIC-LOCATION:Europe/Paris
BEGIN:DAYLIGHT
TZOFFSETFROM:+0100
TZOFFSETTO:+0200
TZNAME:CEST
DTSTART:19700329T020000
RRULE:FREQ=YEARLY;BYMONTH=3;BYDAY=-1SU
END:DAYLIGHT
BEGIN:STANDARD
TZOFFSETFROM:+0200
TZOFFSETTO:+0100
TZNAME:CET
DTSTART:19701025T030000
RRULE:FREQ=YEARLY;BYMONTH=10;BYDAY=-1SU
END:STANDARD
END:VTIMEZONE
BEGIN:VEVENT
UID:2485226:Event:2076238
DTSTAMP:20260422T071129Z
SUMMARY:Les gardiennes de la Sagesse
DESCRIPTION:\"Les gardiennes de la Sagesse\" Je vous proposer de se re
 trouver, un dimanche par mois ,au fil des 4 saisons, le long d'une ann
 ée Nous partagerons ensemble rituels, prières, chants, intentions et
  parfois nuit à la belle étoile! Nous découvrirons la sagesses des 
 femmes , la parole douce, la quiétude des étoiles,le chant des vent,
  la ronde du soleil, le murmure de la cascade Nous parlerons et danser
 ons le chants de toutes les soeurs, toutes les femmes Nous oeuvrons po
 ur une guérison des mémoires de femmes, des femmes en chemin Nous se
 ntirons les fleurs, les arbres et remercierons mère nature si génér
 euse Nous nous baignerons avec le ciel, l'eau, le feu, toutes les rich
 esses de l'instant Vous êtes les bienvenues pour ce cercle de Gardien
 nes de la Sagesse Une Participation de 30 euros et un engagement est d
 emandé Pour plus d' infos Yaël 06 20 34 54 99 http://lechantdesarbre
 s.over-blog.com/ Premier rdv le 9 Novembre dans les Cévennes\n\nPour 
 plus d'information, aller sur https://epanews.fr/events/les-gardiennes
 -de-la-sagesse
DTSTART;TZID=Europe/Paris:20141109T000000
DTEND;TZID=Europe/Paris:20141109T235900
CATEGORIES:30
LOCATION:nimes
WEBSITE:http://lechantdesarbres.over-blog.com/
URL:http://lechantdesarbres.over-blog.com/
CONTACT:0620345499
ORGANIZER;CN=Yaël:https://epanews.fr/profile/yael
ATTACH;FMTTYPE="image/jpeg":http://storage.ning.com/topology/rest/1.0/
 file/get/1663229029?profile=original
ATTENDEE;ROLE=REQ-PARTICIPANT;PARTSTAT=ACCEPTED;RSVP=TRUE;CN=Yaël:htt
 ps://epanews.fr/profile/yael
END:VEVENT
END:VCALENDAR
