BEGIN:VCALENDAR
PRODID:NingEventWidget-v1
VERSION:2.0
METHOD:PUBLISH
BEGIN:VTIMEZONE
TZID:Europe/Paris
X-LIC-LOCATION:Europe/Paris
BEGIN:DAYLIGHT
TZOFFSETFROM:+0100
TZOFFSETTO:+0200
TZNAME:CEST
DTSTART:19700329T020000
RRULE:FREQ=YEARLY;BYMONTH=3;BYDAY=-1SU
END:DAYLIGHT
BEGIN:STANDARD
TZOFFSETFROM:+0200
TZOFFSETTO:+0100
TZNAME:CET
DTSTART:19701025T030000
RRULE:FREQ=YEARLY;BYMONTH=10;BYDAY=-1SU
END:STANDARD
END:VTIMEZONE
BEGIN:VEVENT
UID:2485226:Event:1171764
DTSTAMP:20260421T232346Z
SUMMARY:Les forces de la nature sont-elles aveugles et destructrices ?
DESCRIPTION:Toutes les civilisations ont mentionné l'existence d'un \
 "petit peuple\". Elfes, ondines, gnomes, lutins, existent-ils vraiment
  ? Parmi ceux qui y croient, comment se fait-il que la plupart des gen
 s ne les voient pas ? D'où viennent-ils ? Quels rapports peuvent-ils 
 avoir avec nous ? Et nous avec eux ?\nL'exposé de Daniel Dardour sera
  suivi d'un échange où toutes les questions pourront être posées. 
 - Participation 8 eu.\n\n\nPour plus d'information, aller sur https://
 epanews.fr/events/les-forces-de-la-nature-sont-elles-aveugles-et-destr
 uctrices
DTSTART;TZID=Europe/Paris:20130622T150000
DTEND;TZID=Europe/Paris:20130622T170000
CATEGORIES:75
LOCATION:PARIS 6°
WEBSITE:http://graal.org
URL:http://graal.org
CONTACT:06 63 19 87 70
ORGANIZER:Editions du Graal
ATTACH;FMTTYPE="image/jpeg":
ATTENDEE;ROLE=REQ-PARTICIPANT;PARTSTAT=ACCEPTED;RSVP=TRUE;CN="Bernard 
 Penverne":https://epanews.fr/profile/BernardPenverne
END:VEVENT
END:VCALENDAR
