BEGIN:VCALENDAR
PRODID:NingEventWidget-v1
VERSION:2.0
METHOD:PUBLISH
BEGIN:VTIMEZONE
TZID:Europe/Paris
X-LIC-LOCATION:Europe/Paris
BEGIN:DAYLIGHT
TZOFFSETFROM:+0100
TZOFFSETTO:+0200
TZNAME:CEST
DTSTART:19700329T020000
RRULE:FREQ=YEARLY;BYMONTH=3;BYDAY=-1SU
END:DAYLIGHT
BEGIN:STANDARD
TZOFFSETFROM:+0200
TZOFFSETTO:+0100
TZNAME:CET
DTSTART:19701025T030000
RRULE:FREQ=YEARLY;BYMONTH=10;BYDAY=-1SU
END:STANDARD
END:VTIMEZONE
BEGIN:VEVENT
UID:2485226:Event:157748
DTSTAMP:20260419T190553Z
SUMMARY:« Les dernières preuves scientifiques d'une Vie après la vi
 e \"
DESCRIPTION:CONFERENCE DE Jean Jacques CHARBONIER\nMEDECIN Anesthésis
 te,\nLE Spécialiste Français des «Expériences de Mort Imminente» 
 (EMI)\nAvec le témoignage de Nicole CANIVENQ,\nvictime d’un très g
 rave accident de la route et d’une EMI\nDimanche 21 Novembre 2010\n1
 0h00 à 12h15\n\n« L’expérience bouleversante de ceux qui sont mor
 ts d’un point de vue clinique et qui sont revenus à la vie, nous ap
 prend qu’une Vie est possible «dans une autre dimension»... »\n\n
 QUELQUES MOTS SUR JEAN JACQUES CHARBONIER\nSon métier de médecin-ane
 sthésiste-réanimateur fait de lui un professionnel averti des Expér
 iences de Mort Imminente (EMI ou NDE: Near Death Experience) car voil
  maintenant plus de 20 ans qu’il s'occupe de personnes en état de 
 mort imminente ; de comateux qui, plongés dans les limbes d'une dimen
 sion inconnue, parviennent parfois à revenir à la vie après avoir t
 raversé une expérience bouleversante. On appelle EMI, l’expérienc
 e vécue par ces individus ayant été ranimés avec succès, après a
 voir subi une mort clinique (définie par l’arrêt du fonctionnement
  électrique cérébral qui survient quinze secondes après l’arrêt
  cardiaque).\n\nA la lumière de témoignages authentiques et de sa lo
 ngue expérience auprès des comateux et des mourants, Jean Jacques Ch
 arbonier brise le silence régnant dans le milieu médical et partage 
 les fruits des récentes recherches sur la mort, la maladie et les gu
 risons dites «miraculeuses».\n\nGrâce aux dernières découvertes 
 de nombreux scientifiques Internationaux, sur les Expériences de Mort
  Imminente et les états de conscience modifiée correspondants, JJ Ch
 arbonier affirme l’existence et la survie de la conscience après la
  mort. Il insiste aussi sur la nécessité de prendre en considératio
 n l’existence d’un “monde invisible”, clé essentielle pour mi
 eux comprendre ce qu’est la Mort, et donc la Vie, soigner différemm
 ent et rester en bonne santé. / www.jean-jacques.charbonier.fr\n\nDes
  milliers de personnes ont déjà assisté aux conférences de JJ Char
 bonier, en France et à l'étranger. L’Association « Terre de Resso
 urces » est heureuse de l’inviter pour la troisième fois à Marsei
 lle, afin qu’il puisse expliquer dans quelle mesure les dernières d
 écouvertes liées à l’étude des Expériences de Mort Imminente, n
 ous concernent Tous.\n\n\n\nMODALITES CONFERENCELieu conférence - Th
 âtre GYPTIS 136 rue Loubon 13003 Marseille\nParking Place Cadenat - 
 Détail parcours sur www.mappy.fr ou Bus sur www.rtm.fr\nDimanche 21 n
 ovembre 2010 - 10H à 12H15\n\n15 €/personne\n*Enfants gratuits,7 
  13/17 ans\n\nA partir du 16/11/2010, la réservation par envoi de ch
 èque, n’est plus possible (délai postaux).\nLe Théâtre étant ce
 pendant assez grand, nous vous recommandons d’être présent dès 9h
 30 pour retirer des places.\n\nPlus d’Info: 0610074574 - info@terred
 eressources.com\nA ce jour êtes-vous informé des événements organi
 sés par « Terre De Ressources » ?\nSi vous désirez recevoir notre 
 programme de conférences et ateliers, ou le faire connaître à vos a
 mis,\nmerci de nous transférer votre mail ou tél fixe si vous vous n
 e disposez pas de messagerie électronique.\n\nPour plus d'information
 , aller sur https://epanews.fr/events/les-dernieres-preuves
DTSTART;TZID=Europe/Paris:20101121T100000
DTEND;TZID=Europe/Paris:20101121T121500
CATEGORIES:13
LOCATION:Théâtre GYPTIS 
WEBSITE:http://www.mappy.fr ou Bus sur www.rtm.fr
URL:http://www.mappy.fr ou Bus sur www.rtm.fr
CONTACT:0610074574
ORGANIZER;CN="GARLONE Lou":https://epanews.fr/profile/GARLONELOU
ATTACH;FMTTYPE="image/jpeg":http://storage.ning.com/topology/rest/1.0/
 file/get/1662361425?profile=original
ATTENDEE;ROLE=REQ-PARTICIPANT;PARTSTAT=ACCEPTED;RSVP=TRUE;CN="GARLONE 
 Lou":https://epanews.fr/profile/GARLONELOU
END:VEVENT
END:VCALENDAR
