BEGIN:VCALENDAR
PRODID:NingEventWidget-v1
VERSION:2.0
METHOD:PUBLISH
BEGIN:VTIMEZONE
TZID:Europe/Paris
X-LIC-LOCATION:Europe/Paris
BEGIN:DAYLIGHT
TZOFFSETFROM:+0100
TZOFFSETTO:+0200
TZNAME:CEST
DTSTART:19700329T020000
RRULE:FREQ=YEARLY;BYMONTH=3;BYDAY=-1SU
END:DAYLIGHT
BEGIN:STANDARD
TZOFFSETFROM:+0200
TZOFFSETTO:+0100
TZNAME:CET
DTSTART:19701025T030000
RRULE:FREQ=YEARLY;BYMONTH=10;BYDAY=-1SU
END:STANDARD
END:VTIMEZONE
BEGIN:VEVENT
UID:2485226:Event:62280
DTSTAMP:20260419T181558Z
SUMMARY:LES CRANES DE CRISTAL, un Message pour notre Epoque?
DESCRIPTION:« TERRE DE RESSOURCES » présente :\nCONFERENCE / PROJEC
 TION\n\n« LES CRANES DE CRISTAL »\nUn message pour notre époque ?\n
 \nSuivi d’un débat avec un spécialiste du phénomène, Patrice MAR
 TY\n\nDIMANCHE 30 mai (10h/12h30)\n\nMaison du Bâtiment (salle de con
 férences)\n344 Bd Michelet - 13009 Marseille\nMétro Rd Point du Prad
 o puis bus 21 ou 22 - arrêt Luce\nTarif unique : 10 €\n\nVéritable
  spécialiste de ce phénomène, Patrice Marty travaille depuis plus d
 e 20 ans sur les Crânes de Cristal. Dans son enfance il dessinait des
  crânes sans savoir pourquoi. A l’adolescence, en feuilletant un li
 vre, il découvre le Crâne de Cristal de Mitchell-Hedges : c’est un
 e révélation ! En 2004, il rencontre le Crâne de Cristal Max. Dés 
 lors, Patrice Marty est connecté avec l’énergie des anciens crâne
 s. Il comprend alors pourquoi les Crânes de Cristal l’accompagnent 
 depuis toujours. En 2005, il devient le gardien d’un Crâne de Crist
 al contemporain, connecté à Sirius, puis d'un crâne Maya découvert
  au Mexique et d'un crâne de la Civilisation Hongshan vieille de 3000
  ans avant JC. Certains considèrent qu’il existe 13 Crânes de Cris
 tal sur Terre et que leur réunion permettra d’accéder à des conna
 issances déterminantes pour l’avenir de l’Homme…\n\nDECOUVREZ C
 E QUE CES CRANES TENTERAIENT DE COMMUNIQUER A L’HUMANITE…\nEn pré
 sence des Crânes de Cristal Sirius, Amakulp, Mère Divine & Houmama\n
 \nInfo: Lou Garlone - 06 10 07 45 74 - info@terrederessources.com\n\nP
 our plus d'information, aller sur https://epanews.fr/events/les-cranes
 -de-cristal-un
DTSTART;TZID=Europe/Paris:20100530T100000
DTEND;TZID=Europe/Paris:20100530T123000
CATEGORIES:13
LOCATION:MAISON DU BATIMENT 344 BD MICHELET 13009 MARSEILLE
WEBSITE:
URL:
CONTACT:
ORGANIZER;CN="GARLONE Lou":https://epanews.fr/profile/GARLONELOU
ATTACH;FMTTYPE="image/jpeg":http://storage.ning.com/topology/rest/1.0/
 file/get/1662306398?profile=original
ATTENDEE;ROLE=REQ-PARTICIPANT;PARTSTAT=ACCEPTED;RSVP=TRUE;CN="GARLONE 
 Lou":https://epanews.fr/profile/GARLONELOU
ATTENDEE;ROLE=REQ-PARTICIPANT;PARTSTAT=TENTATIVE;RSVP=TRUE;CN=joelle:h
 ttps://epanews.fr/profile/joellespisso
END:VEVENT
END:VCALENDAR
