BEGIN:VCALENDAR
PRODID:NingEventWidget-v1
VERSION:2.0
METHOD:PUBLISH
BEGIN:VTIMEZONE
TZID:Europe/Paris
X-LIC-LOCATION:Europe/Paris
BEGIN:DAYLIGHT
TZOFFSETFROM:+0100
TZOFFSETTO:+0200
TZNAME:CEST
DTSTART:19700329T020000
RRULE:FREQ=YEARLY;BYMONTH=3;BYDAY=-1SU
END:DAYLIGHT
BEGIN:STANDARD
TZOFFSETFROM:+0200
TZOFFSETTO:+0100
TZNAME:CET
DTSTART:19701025T030000
RRULE:FREQ=YEARLY;BYMONTH=10;BYDAY=-1SU
END:STANDARD
END:VTIMEZONE
BEGIN:VEVENT
UID:2485226:Event:2931275
DTSTAMP:20260421T202710Z
SUMMARY:Apprendre à communiquer et à travailler avec un crâne de cr
 istal.
DESCRIPTION:Le dimanche 18 février 2018\nde 10h à 18h\n\nSous l’é
 gide de la Crystal TEAM, en tant qu’enseignants cristallins et avec 
 l’aide d’Imanna, apprenez à utiliser les énergies incroyables de
 s crânes de cristal.\nQue vous soyez déjà ouvert(e) ou sur le chemi
 n de la découverte des mondes subtils, si vous êtes à lire ce progr
 amme c’est que vous avez ressenti l’appel des crânes ! Alors …
  venez expérimenter leurs enseignements pour vivre chaque jour de plu
 s en plus connecté(e) et en harmonie !\nApprendre à travailler avec
  un crâne de cristal\nDe part leur structures cristallines et leur on
 de de forme sacrée (tête) ils sont des vecteurs de communication pui
 ssants. A compté du moment où ils sont activés, ils nous permettent
  de développer nos capacités extra-sensorielles et de révéler nos 
 talents, pour mieux vivre au quotidien, notre vie avec plus de conscie
 nce et de joie.\nDécouvrir le rôle que peuvent jouer les crânes de 
 cristal dans notre vie aujourd’hui\nNotre vie à 200 à l’heure no
 us donne rarement l’occasion de nous arrêter et d’écouter notre 
 petite voix intérieure et encore moins la possibilité d’entendre n
 otre âme, nos guides, ou les êtres des autres dimensions plus subtil
 es. Lorsque vous avez un crâne de cristal entre les mains, il vous po
 se et sans vous imposer, il vous accompagne sur le chemin de votre con
 science supérieure afin de retrouver le sentiment d’Unité, dans vo
 tre présent. Où que vous soyez.\nprogramme complet en cliquant sur c
 e lien\n\nRenseignements et inscriptions\nharmonieetconscience888@oran
 ge.fr\nou au 06 74 50 62 68\n\n\nPour plus d'information, aller sur ht
 tps://epanews.fr/events/les-cr-nes-de-cristal-veilleurs-de-conscience-
 avec-imana-et-la
DTSTART;TZID=Europe/Paris:20180218T100000
DTEND;TZID=Europe/Paris:20180218T180000
CATEGORIES:75
LOCATION:Paris 14ème
WEBSITE:http://www.harmonie-et-conscience.com
URL:http://www.harmonie-et-conscience.com
CONTACT:06 74 50 62 68
ORGANIZER;CN="Harmonie et Conscience":https://epanews.fr/profile/Harmo
 nieetConscience
ATTACH;FMTTYPE="image/jpeg":
ATTENDEE;ROLE=REQ-PARTICIPANT;PARTSTAT=ACCEPTED;RSVP=TRUE;CN="Harmonie
  et Conscience":https://epanews.fr/profile/HarmonieetConscience
END:VEVENT
END:VCALENDAR
