BEGIN:VCALENDAR
PRODID:NingEventWidget-v1
VERSION:2.0
METHOD:PUBLISH
BEGIN:VTIMEZONE
TZID:Europe/Paris
X-LIC-LOCATION:Europe/Paris
BEGIN:DAYLIGHT
TZOFFSETFROM:+0100
TZOFFSETTO:+0200
TZNAME:CEST
DTSTART:19700329T020000
RRULE:FREQ=YEARLY;BYMONTH=3;BYDAY=-1SU
END:DAYLIGHT
BEGIN:STANDARD
TZOFFSETFROM:+0200
TZOFFSETTO:+0100
TZNAME:CET
DTSTART:19701025T030000
RRULE:FREQ=YEARLY;BYMONTH=10;BYDAY=-1SU
END:STANDARD
END:VTIMEZONE
BEGIN:VEVENT
UID:2485226:Event:541789
DTSTAMP:20260423T010857Z
SUMMARY:Les Constellations Planétaires
DESCRIPTION:Les Constellations Planétaires associent astrologie et th
 érapie Les planètes sont des images vivantes et universelles de l'â
 me collective.\nElles parlent à nos fonctionnement intimes, à nos é
 motions et nos valeurs essentielles.\n\nLes Constellations Planétaire
 s sont un outil original pour explorer avec notre intuition la dimensi
 on vivante du ciel de naissance.\n\nA l'écoute des Planètes qui s'ex
 priment à travers nous, nous sommes invités à faire l'expérience d
 e notre réalité intérieure, pour mieux nous comprendre et nous acce
 pter.\nJeudi 4 novembre 2011 à 19h30\n \nà Lumière Espace Bien-Etr
 e, 38 bd. Périer, 13008 Marseille\nEntrée : 5 €\navec dominique\n
 damplanet@free.fr\n \n \n\nPour plus d'information, aller sur https:
 //epanews.fr/events/les-constellations-plan-taires
DTSTART;TZID=Europe/Paris:20111104T193000
DTEND;TZID=Europe/Paris:20111104T210000
CATEGORIES:13008, marseille
LOCATION:MARSEILLE
WEBSITE:
URL:
CONTACT:04 91 75 59 45  ou 06 89 09 76 95
ORGANIZER;CN=dominique:https://epanews.fr/profile/domi
ATTACH;FMTTYPE="image/jpeg":http://storage.ning.com/topology/rest/1.0/
 file/get/1662464853?profile=original
ATTENDEE;ROLE=REQ-PARTICIPANT;PARTSTAT=ACCEPTED;RSVP=TRUE;CN=dominique
 :https://epanews.fr/profile/domi
END:VEVENT
END:VCALENDAR
