BEGIN:VCALENDAR
PRODID:NingEventWidget-v1
VERSION:2.0
METHOD:PUBLISH
BEGIN:VTIMEZONE
TZID:Europe/Paris
X-LIC-LOCATION:Europe/Paris
BEGIN:DAYLIGHT
TZOFFSETFROM:+0100
TZOFFSETTO:+0200
TZNAME:CEST
DTSTART:19700329T020000
RRULE:FREQ=YEARLY;BYMONTH=3;BYDAY=-1SU
END:DAYLIGHT
BEGIN:STANDARD
TZOFFSETFROM:+0200
TZOFFSETTO:+0100
TZNAME:CET
DTSTART:19701025T030000
RRULE:FREQ=YEARLY;BYMONTH=10;BYDAY=-1SU
END:STANDARD
END:VTIMEZONE
BEGIN:VEVENT
UID:2485226:Event:971489
DTSTAMP:20260420T061221Z
SUMMARY:Les clés du bonheur
DESCRIPTION:     ALLIANCE ESSENCIEL\n \n propose  les rendez- vo
 us du\n \n jeudi \" Les clés du bonheur \"\n \n            \
 " La Force \"\n \nAuteur :G. Bonneville \n \n \n \nentrée :5€\
 n\nPour plus d'information, aller sur https://epanews.fr/events/les-cl
 -s-du-bonheur
DTSTART;TZID=Europe/Paris:20121011T200000
DTEND;TZID=Europe/Paris:20121011T220000
CATEGORIES:13
LOCATION:HOTEL WESTERN PARADOU MEDITERRANEE
WEBSITE:
URL:
CONTACT:0681289682
ORGANIZER;CN=tallulah:https://epanews.fr/profile/NEPHEBETH
ATTACH;FMTTYPE="image/jpeg":
ATTENDEE;ROLE=REQ-PARTICIPANT;PARTSTAT=ACCEPTED;RSVP=TRUE;CN=tallulah:
 https://epanews.fr/profile/NEPHEBETH
END:VEVENT
END:VCALENDAR
