BEGIN:VCALENDAR
PRODID:NingEventWidget-v1
VERSION:2.0
METHOD:PUBLISH
BEGIN:VTIMEZONE
TZID:Europe/Paris
X-LIC-LOCATION:Europe/Paris
BEGIN:DAYLIGHT
TZOFFSETFROM:+0100
TZOFFSETTO:+0200
TZNAME:CEST
DTSTART:19700329T020000
RRULE:FREQ=YEARLY;BYMONTH=3;BYDAY=-1SU
END:DAYLIGHT
BEGIN:STANDARD
TZOFFSETFROM:+0200
TZOFFSETTO:+0100
TZNAME:CET
DTSTART:19701025T030000
RRULE:FREQ=YEARLY;BYMONTH=10;BYDAY=-1SU
END:STANDARD
END:VTIMEZONE
BEGIN:VEVENT
UID:2485226:Event:2724483
DTSTAMP:20260423T000717Z
SUMMARY:Les chakras, moteurs de notre chemin de vie et de conscience
DESCRIPTION:Un atelier sur ce thÃ¨me aura lieu,\n44 rue saint Laurent,
 \nLe 2e mercredi du mois, de 19H30 Ã  22H\nÂ 9/11, 14/12, 11/01, 8/02,
  8/03, 12/04, 10/05, 14/06\nLes chakras sont les centres Ã©nergÃ©tique
 s fondamentaux de lâ€™Ãªtre humain.\nMieux les connaÃ®tre peut nous Ãª
 tre trÃ¨s utile, chaque jour, dans notre Ã©volution physique, psychiqu
 e et spirituelle.\nÂ Les sept chakras majeurs correspondent aux Ã©tape
 s principales de notre chemin de vie, dans lâ€™incarnation et lâ€™Ã©lÃ
 ©vation, et aux Ã©tats de conscience correspondant.\nCette formation p
 roposeÂ :\n\nUne meilleure connaissance de chaque chakra, du champ de 
 conscience auquel il est reliÃ© et des zones et fonctions corporelles 
 quâ€™il rÃ©git.\nDes mÃ©ditations et des exercices pour expÃ©rimenter 
 et dÃ©velopper en soi le ressenti des Ã©nergies et des Ã©tats de consc
 ience propres Ã  chacun dâ€™eux.\nDes recherches individuelles sur le 
 plan psychologique concernant nos diffÃ©rentes Ã©tapes dâ€™Ã©volution 
 en lien avec chaque centre.\nDes Ã©changes verbaux Ã  partir des dÃ©co
 uvertes, des questions et du vÃ©cu quotidien de chaque personne.Â \n\n
 \n\n- PrixÂ : 25â‚¬ la sÃ©ance. Les 8 soirÃ©esÂ : 180â‚¬.\n- Animateur
 Â : BERNARD MOLLIEX, thÃ©rapeute psychocorporel.\n- Renseignements et 
 inscriptionsÂ : 06 13 29 21 29Â \n- SiteÂ :http://www.therapeute-psych
 ocorporel-albertville-grenoble.com\n\nPour plus d'information, aller s
 ur https://epanews.fr/events/les-chakras-moteurs-de-notre-chemin-de-vi
 e-et-de-conscience-1
DTSTART;TZID=Europe/Paris:20161109T193000
DTEND;TZID=Europe/Paris:20161109T220000
CATEGORIES:38
LOCATION:Grenoble
WEBSITE:http://www.therapeute-psychocorporel-albertville-grenoble.com
URL:http://www.therapeute-psychocorporel-albertville-grenoble.com
CONTACT:06 13 29 21 29
ORGANIZER;CN="Molliex Bernard":https://epanews.fr/profile/MolliexBerna
 rd
ATTACH;FMTTYPE="image/jpeg":http://storage.ning.com/topology/rest/1.0/
 file/get/1663614066?profile=original
ATTENDEE;ROLE=REQ-PARTICIPANT;PARTSTAT=ACCEPTED;RSVP=TRUE;CN="Molliex 
 Bernard":https://epanews.fr/profile/MolliexBernard
END:VEVENT
END:VCALENDAR
