BEGIN:VCALENDAR
PRODID:NingEventWidget-v1
VERSION:2.0
METHOD:PUBLISH
BEGIN:VTIMEZONE
TZID:Europe/Paris
X-LIC-LOCATION:Europe/Paris
BEGIN:DAYLIGHT
TZOFFSETFROM:+0100
TZOFFSETTO:+0200
TZNAME:CEST
DTSTART:19700329T020000
RRULE:FREQ=YEARLY;BYMONTH=3;BYDAY=-1SU
END:DAYLIGHT
BEGIN:STANDARD
TZOFFSETFROM:+0200
TZOFFSETTO:+0100
TZNAME:CET
DTSTART:19701025T030000
RRULE:FREQ=YEARLY;BYMONTH=10;BYDAY=-1SU
END:STANDARD
END:VTIMEZONE
BEGIN:VEVENT
UID:2485226:Event:1915655
DTSTAMP:20260421T214442Z
SUMMARY:Les chakras : connaissance et pratique
DESCRIPTION:SoirÃ©e dans le cadre des confÃ©rences du Jeudi de l'assoc
 iation Optime.\nAu cours de cette rencontre, nous ferons un peu de thÃ
 ©orie et aussi un exercice pour mieux ressentir et habiter chacun de n
 os centres.\nSuite Ã  cette confÃ©rence, un atelier sera proposÃ©, Ã  
 Grenoble, Ã  partir de septembre prochain.\n\nPour plus d'information,
  aller sur https://epanews.fr/events/les-chakras-connaissance-et-prati
 que
DTSTART;TZID=Europe/Paris:20140515T200000
DTEND;TZID=Europe/Paris:20140515T220000
CATEGORIES:38
LOCATION:Grenoble
WEBSITE:http://www.therapeute-psychocorporel-albertville-grenoble.com/
URL:http://www.therapeute-psychocorporel-albertville-grenoble.com/
CONTACT:06 13 29 21 29
ORGANIZER;CN="Molliex Bernard":https://epanews.fr/profile/MolliexBerna
 rd
ATTACH;FMTTYPE="image/jpeg":http://storage.ning.com/topology/rest/1.0/
 file/get/1663131135?profile=original
ATTENDEE;ROLE=REQ-PARTICIPANT;PARTSTAT=ACCEPTED;RSVP=TRUE;CN="Molliex 
 Bernard":https://epanews.fr/profile/MolliexBernard
END:VEVENT
END:VCALENDAR
