BEGIN:VCALENDAR
PRODID:NingEventWidget-v1
VERSION:2.0
METHOD:PUBLISH
BEGIN:VTIMEZONE
TZID:Europe/Paris
X-LIC-LOCATION:Europe/Paris
BEGIN:DAYLIGHT
TZOFFSETFROM:+0100
TZOFFSETTO:+0200
TZNAME:CEST
DTSTART:19700329T020000
RRULE:FREQ=YEARLY;BYMONTH=3;BYDAY=-1SU
END:DAYLIGHT
BEGIN:STANDARD
TZOFFSETFROM:+0200
TZOFFSETTO:+0100
TZNAME:CET
DTSTART:19701025T030000
RRULE:FREQ=YEARLY;BYMONTH=10;BYDAY=-1SU
END:STANDARD
END:VTIMEZONE
BEGIN:VEVENT
UID:2485226:Event:2464214
DTSTAMP:20260421T132527Z
SUMMARY:Les cafÃ©s de la vie dÃ©barquent Ã  Aix, gratuit, une conso
DESCRIPTION:www.cafedelamour.fr\nAvez-vous tendance Ã  vous auto-sabot
 er ?\nLe cafÃ© de la vie : pour une vie plus belle et plus joyeuse !\n
 Le but de ces cafÃ©s est dâ€™apporter un soutien plein d'Ã©nergie pour
  choisir de dÃ©passer ses conditionnements et se prÃ©parer une vie plu
 s joyeuse et plus belleÂ…Dans lâ€™esprit du dernier ouvrage de lâ€™aut
 eur, ils ont pour objectif de rÃ©gler les problÃ¨mes rencontrÃ©s par l
 es participants dans tous les domaines de leur vie.\nEn effet, nous so
 mmes nombreux Ã  rater en beautÃ© prÃ©cisÃ©ment ce que nous dÃ©sirons 
 le plus. Bonne nouvelle : cela sâ€™appelle de lâ€™auto-sabotage et cel
 a se soigne. Lâ€™objectif : arrÃªter de nous sacrifier et vivre Ã  la 
 place que nous mÃ©ritons ! Chacun peut crÃ©er lui-mÃªme son enfer (en 
 se sabotant par loyautÃ©, en recherchant dÃ©sespÃ©rÃ©ment de la reconn
 aissance) ou son paradis (en dÃ©cidant de croire quâ€™on peut avoir un
 e vie enrichissante quoi quâ€™il arrive).\nBÃ©nÃ©dicte Ann, coach de v
 ie est lâ€™auteur de plusieurs guides pratiques de dÃ©veloppement pers
 onnel sur la vie amoureuse. Son nouveau livre Â« ArrÃªtez de vous sabo
 tez, vous Ãªtes exceptionnel Â» va plus loin en sâ€™intÃ©ressant Ã  to
 us les aspects de la vie. Ex-auto-saboteuse, elle a expÃ©rimentÃ© la m
 Ã©thode quâ€™elle prÃ©conise sur sa clientÃ¨le avec des rÃ©sultats trÃ
 ¨s probants. Son programme : comprendre ce qui bloque, dÃ©couvrir pour
 quoi et agir pour que Ã§a change.\nElle est de passage Ã  Aix, câ€™est
  lâ€™occasion dâ€™organiser pour la premiÃ¨re fois un Â« CafÃ© de la v
 ie Â» ici.\nLa soirÃ©e commence par une courte confÃ©rence pour expose
 r la mÃ©thode de BÃ©nÃ©dicte Ann. Quelques partages entre les particip
 ants sont proposÃ©s pour dÃ©tendre lâ€™atmosphÃ¨re et crÃ©er du lien. 
 AprÃ¨s un rapide Ã©change de questions/rÃ©ponses, et quelques exercice
 s de psychologie positive pour se programmer Ã  une vie \"plus lÃ©gÃ¨r
 e et plus joyeuse\", BÃ©nÃ©dicte Ann rÃ©alise un mini coaching dâ€™une
  personne volontaire de lâ€™assistance, en permettant Ã  lâ€™ensemble 
 de la salle de rÃ©agir. Les participants se nourrissent alors du trava
 il rÃ©alisÃ©, dans la mesure ou lâ€™on apprend autant des autres que d
 e soi.\n\nPour plus d'information, aller sur https://epanews.fr/events
 /les-caf-s-de-la-vie-d-barquent-aix
DTSTART;TZID=Europe/Paris:20151106T193000
DTEND;TZID=Europe/Paris:20151106T213000
CATEGORIES:13
LOCATION:Les deux garÃ§ons, Ã  l'Ã©tage
WEBSITE:http://www.cafedelamour.fr
URL:http://www.cafedelamour.fr
CONTACT:0612782630
ORGANIZER;CN=cafedelamour:https://epanews.fr/profile/cafedelamour
ATTACH;FMTTYPE="image/jpeg":http://storage.ning.com/topology/rest/1.0/
 file/get/1663476913?profile=original
ATTENDEE;ROLE=REQ-PARTICIPANT;PARTSTAT=ACCEPTED;RSVP=TRUE;CN=cafedelam
 our:https://epanews.fr/profile/cafedelamour
END:VEVENT
END:VCALENDAR
