BEGIN:VCALENDAR
PRODID:NingEventWidget-v1
VERSION:2.0
METHOD:PUBLISH
BEGIN:VTIMEZONE
TZID:Europe/Paris
X-LIC-LOCATION:Europe/Paris
BEGIN:DAYLIGHT
TZOFFSETFROM:+0100
TZOFFSETTO:+0200
TZNAME:CEST
DTSTART:19700329T020000
RRULE:FREQ=YEARLY;BYMONTH=3;BYDAY=-1SU
END:DAYLIGHT
BEGIN:STANDARD
TZOFFSETFROM:+0200
TZOFFSETTO:+0100
TZNAME:CET
DTSTART:19701025T030000
RRULE:FREQ=YEARLY;BYMONTH=10;BYDAY=-1SU
END:STANDARD
END:VTIMEZONE
BEGIN:VEVENT
UID:2485226:Event:2237473
DTSTAMP:20260419T183720Z
SUMMARY:Les Bains de Llo - Gîte San Feliu
DESCRIPTION:Du 13 au 17 mai, Anne propose un séjour Détente et anti-
 stress intitulé « Les Bains de Llo ». 4 jours organisés autour de 
 cours de Pilates matwork, de massages bien être et de séances de yog
 a. Sans oublier la découverte de merveilleux paysages et des bains, a
 u bord des Gorges du Sègre.\nNiché au cœur du pittoresque village d
 e Llo, le gîte San Feliu tout de bois et de pierres vêtu accueillera
  familles, randonneurs ou amoureux de la montagne. Comme à la maison,
  Anne Constantin, la maîtresse des lieux, est aux petits soins pour i
 nstaller confortablement ses invités : Repas gastronomiques sains et 
 équilibrés dans une ambiance conviviale, confitures maison mariant d
 e manière inédite des produits locaux (saveur citron et gingembre), 
 panier repas pour le déjeuner... on serait tenté de rester bien au c
 haud ! mais la richesse culturelle de la région nous en garde bien ! 
 Alors pour apprécier pleinement le séjour selon vos envies, le gîte
  propose de nombreuses balades, visites et activités adaptées à tou
 s.\n\nPour plus d'information, aller sur https://epanews.fr/events/les
 -bains-de-llo-g-te-san-feliu
DTSTART;TZID=Europe/Paris:20150513T180000
DTEND;TZID=Europe/Paris:20150517T190000
CATEGORIES:66
LOCATION:Gîte San Feliu
WEBSITE:http://www.gite-de-llo.com/
URL:http://www.gite-de-llo.com/
CONTACT:
ORGANIZER;CN="Anne Constantin":https://epanews.fr/profile/AnneConstant
 in
ATTACH;FMTTYPE="image/jpeg":http://storage.ning.com/topology/rest/1.0/
 file/get/1663334981?profile=original
ATTENDEE;ROLE=REQ-PARTICIPANT;PARTSTAT=ACCEPTED;RSVP=TRUE;CN="Anne Con
 stantin":https://epanews.fr/profile/AnneConstantin
END:VEVENT
END:VCALENDAR
