BEGIN:VCALENDAR
PRODID:NingEventWidget-v1
VERSION:2.0
METHOD:PUBLISH
BEGIN:VTIMEZONE
TZID:Europe/Paris
X-LIC-LOCATION:Europe/Paris
BEGIN:DAYLIGHT
TZOFFSETFROM:+0100
TZOFFSETTO:+0200
TZNAME:CEST
DTSTART:19700329T020000
RRULE:FREQ=YEARLY;BYMONTH=3;BYDAY=-1SU
END:DAYLIGHT
BEGIN:STANDARD
TZOFFSETFROM:+0200
TZOFFSETTO:+0100
TZNAME:CET
DTSTART:19701025T030000
RRULE:FREQ=YEARLY;BYMONTH=10;BYDAY=-1SU
END:STANDARD
END:VTIMEZONE
BEGIN:VEVENT
UID:2485226:Event:539600
DTSTAMP:20260423T012356Z
SUMMARY:LES BA DUAN JIN OU 8 PIECES DE BROCART
DESCRIPTION:MOUVEMENTS POUR RENFORCER LES MUSCLES ET LES TENDONS QUI R
 EGULARISENT  L'ENERGIE ET LA CONDUISENT AU PLUS PROFOND DU CORPS .acc
 éssible a tous niveaux\n\nPour plus d'information, aller sur https://
 epanews.fr/events/les-ba-duan-jin-ou-8-pieces-de-brocart
DTSTART;TZID=Europe/Paris:20110930T091500
DTEND;TZID=Europe/Paris:20110930T104500
CATEGORIES:13
LOCATION:AIX-EN-PROVENCE
WEBSITE:
URL:
CONTACT:
ORGANIZER;CN="BREMOND Béatrice":https://epanews.fr/profile/BREMONDBea
 trice
ATTACH;FMTTYPE="image/jpeg":http://storage.ning.com/topology/rest/1.0/
 file/get/1662465320?profile=original
ATTENDEE;ROLE=REQ-PARTICIPANT;PARTSTAT=ACCEPTED;RSVP=TRUE;CN="BREMOND 
 Béatrice":https://epanews.fr/profile/BREMONDBeatrice
END:VEVENT
END:VCALENDAR
