BEGIN:VCALENDAR
PRODID:NingEventWidget-v1
VERSION:2.0
METHOD:PUBLISH
BEGIN:VTIMEZONE
TZID:Europe/Paris
X-LIC-LOCATION:Europe/Paris
BEGIN:DAYLIGHT
TZOFFSETFROM:+0100
TZOFFSETTO:+0200
TZNAME:CEST
DTSTART:19700329T020000
RRULE:FREQ=YEARLY;BYMONTH=3;BYDAY=-1SU
END:DAYLIGHT
BEGIN:STANDARD
TZOFFSETFROM:+0200
TZOFFSETTO:+0100
TZNAME:CET
DTSTART:19701025T030000
RRULE:FREQ=YEARLY;BYMONTH=10;BYDAY=-1SU
END:STANDARD
END:VTIMEZONE
BEGIN:VEVENT
UID:2485226:Event:1652391
DTSTAMP:20260421T100906Z
SUMMARY:Les ateliers d'écriture de La Plume des ailes
DESCRIPTION:✩ Atelier d’écriture intuitif……………………
 …………….☃ Vous êtes les bienvenus !!\n✩ dimanche 22 déc
 embre\nde 15h à 18h\n\nJe vous propose de nous retrouver au solstice 
 d’hiver\n\naprès la nuit la plus longue\npour recommencer à grandi
 r avec les jours.\nC’est l’occasion de se débarrasser des vieux f
 ardeaux\nDe se préparer à l’intérieur……………\n……. pou
 r laisser rejaillir en soi bientôt l’énergie nouvelle !\n\n✩ mar
 di 17 décembre\nde 19h30 à 22h\nPour plus d'information, rendez-vous
  sur le site de La Plume des ailes: http://plumedesailes.wordpress.co
 m\n\n\n\nPour plus d'information, aller sur https://epanews.fr/events/
 les-ateliers-d-criture-de-la-plume-des-ailes
DTSTART;TZID=Europe/Paris:20131222T150000
DTEND;TZID=Europe/Paris:20131222T180000
CATEGORIES:75
LOCATION:Paris 1er
WEBSITE:http://plumedesailes.wordpress.com
URL:http://plumedesailes.wordpress.com
CONTACT:
ORGANIZER;CN="Plume des ailes":https://epanews.fr/profile/Plumedesaile
 s
ATTACH;FMTTYPE="image/jpeg":
ATTENDEE;ROLE=REQ-PARTICIPANT;PARTSTAT=ACCEPTED;RSVP=TRUE;CN="Plume de
 s ailes":https://epanews.fr/profile/Plumedesailes
END:VEVENT
END:VCALENDAR
