BEGIN:VCALENDAR
PRODID:NingEventWidget-v1
VERSION:2.0
METHOD:PUBLISH
BEGIN:VTIMEZONE
TZID:Europe/Paris
X-LIC-LOCATION:Europe/Paris
BEGIN:DAYLIGHT
TZOFFSETFROM:+0100
TZOFFSETTO:+0200
TZNAME:CEST
DTSTART:19700329T020000
RRULE:FREQ=YEARLY;BYMONTH=3;BYDAY=-1SU
END:DAYLIGHT
BEGIN:STANDARD
TZOFFSETFROM:+0200
TZOFFSETTO:+0100
TZNAME:CET
DTSTART:19701025T030000
RRULE:FREQ=YEARLY;BYMONTH=10;BYDAY=-1SU
END:STANDARD
END:VTIMEZONE
BEGIN:VEVENT
UID:2485226:Event:2111518
DTSTAMP:20260423T120422Z
SUMMARY:Les Ateliers découverte \"Coaching & pleine conscience\"
DESCRIPTION:Thème du jour : \"Soyez un stressé heureux !\" ou Commen
 t apprivoiser votre stress pour rééquilibrer votre vie.\nVenez expé
 rimenter l'alliance innovante de la dynamique du coaching en petit gro
 upe et de l'efficacité de la pleine conscience !\nAtelier découverte
  animé par : Elisabeth COUZON (Instructrice agréée en Pleine Consci
 ence et Auteure notamment de \"La méditation de pleine conscience pas
  à pas\", ESF) et Pamela ROUDIY (Coach certifiée et formatrice).\nIn
 scriptions : 06 37 17 63 16 ou contact@cerclest.com \n\nPour plus d'i
 nformation, aller sur https://epanews.fr/events/les-ateliers-d-couvert
 e-coaching-pleine-conscience
DTSTART;TZID=Europe/Paris:20141122T091500
DTEND;TZID=Europe/Paris:20141122T121500
CATEGORIES:91
LOCATION:91310 Longpont sur Orge
WEBSITE:
URL:
CONTACT:
ORGANIZER;CN=Pamela:https://epanews.fr/profile/Pamela
ATTACH;FMTTYPE="image/jpeg":http://storage.ning.com/topology/rest/1.0/
 file/get/1663250890?profile=original
ATTENDEE;ROLE=REQ-PARTICIPANT;PARTSTAT=ACCEPTED;RSVP=TRUE;CN=Pamela:ht
 tps://epanews.fr/profile/Pamela
END:VEVENT
END:VCALENDAR
