BEGIN:VCALENDAR
PRODID:NingEventWidget-v1
VERSION:2.0
METHOD:PUBLISH
BEGIN:VTIMEZONE
TZID:Europe/Paris
X-LIC-LOCATION:Europe/Paris
BEGIN:DAYLIGHT
TZOFFSETFROM:+0100
TZOFFSETTO:+0200
TZNAME:CEST
DTSTART:19700329T020000
RRULE:FREQ=YEARLY;BYMONTH=3;BYDAY=-1SU
END:DAYLIGHT
BEGIN:STANDARD
TZOFFSETFROM:+0200
TZOFFSETTO:+0100
TZNAME:CET
DTSTART:19701025T030000
RRULE:FREQ=YEARLY;BYMONTH=10;BYDAY=-1SU
END:STANDARD
END:VTIMEZONE
BEGIN:VEVENT
UID:2485226:Event:2111249
DTSTAMP:20260422T140433Z
SUMMARY:Les Ateliers découverte \"Coaching & pleine conscience\"
DESCRIPTION:Thème du jour : \"Osez en confiance vos changements de vi
 e\".\nVenez expérimenter l'alliance innovante de la dynamique du coac
 hing en petit groupe et de l'efficacité de la pleine conscience !\nAt
 elier découverte animé par : Elisabeth COUZON (Instructrice agréée
  en Pleine Conscience et Auteure notamment de \"La méditation de plei
 ne conscience pas à pas\", ESF) et Pamela ROUDIY (Coach certifiée et
  formatrice).\nInscriptions : 06 37 17 63 16 ou contact@cerclest.com 
 \n\nPour plus d'information, aller sur https://epanews.fr/events/les-a
 teliers-d-couverte-coaching-pleine-conscience-2
DTSTART;TZID=Europe/Paris:20150117T091500
DTEND;TZID=Europe/Paris:20150117T121500
CATEGORIES:91
LOCATION:91310 Longpont sur Orge
WEBSITE:
URL:
CONTACT:
ORGANIZER;CN=Pamela:https://epanews.fr/profile/Pamela
ATTACH;FMTTYPE="image/jpeg":http://storage.ning.com/topology/rest/1.0/
 file/get/1663251185?profile=original
ATTENDEE;ROLE=REQ-PARTICIPANT;PARTSTAT=ACCEPTED;RSVP=TRUE;CN=Pamela:ht
 tps://epanews.fr/profile/Pamela
END:VEVENT
END:VCALENDAR
