BEGIN:VCALENDAR
PRODID:NingEventWidget-v1
VERSION:2.0
METHOD:PUBLISH
BEGIN:VTIMEZONE
TZID:Europe/Paris
X-LIC-LOCATION:Europe/Paris
BEGIN:DAYLIGHT
TZOFFSETFROM:+0100
TZOFFSETTO:+0200
TZNAME:CEST
DTSTART:19700329T020000
RRULE:FREQ=YEARLY;BYMONTH=3;BYDAY=-1SU
END:DAYLIGHT
BEGIN:STANDARD
TZOFFSETFROM:+0200
TZOFFSETTO:+0100
TZNAME:CET
DTSTART:19701025T030000
RRULE:FREQ=YEARLY;BYMONTH=10;BYDAY=-1SU
END:STANDARD
END:VTIMEZONE
BEGIN:VEVENT
UID:2485226:Event:458042
DTSTAMP:20260422T205153Z
SUMMARY:Les accords toltèques - Stage de Biodanza
DESCRIPTION:Les retrouvailles avec la force première – celle de la 
 vie – qui peut orienter notre perception, notre sensation de nous-m
 mes, nos pensées et nos actes, nous affranchissent des cadres limita
 nts de tout ce qui nous conditionne, et nous ouvrent un espace de libe
 rté. Or, comme tout chemin vers le sentiment de liberté – être si
 mplement soi-même – il y a des aides pour\nchaque pas. Le mot Tolt
 que veut dire “artiste”. Pour être l’artiste de notre propre v
 ie et déployer notre art avec générosité, nous avons besoin de que
 lques outils, comme le peintre a besoin de sa concentration, de son ob
 servation, de sa sensibilité, de son courage, de son\ninspiration, to
 ut autant que de ses pinceaux et de ses couleurs. Les Accords Toltèqu
 es – aujourd’hui au nombre de cinq - sont ces outils dont nous pou
 vons nous servir pour exprimer notre art au quotidien et faire de notr
 e vie notre oeuvre la plus précieuse.\nAvoir une parole impeccable 
  Ne rien prendre pour soi — Ne jamais présumer — En toute chose,
  faire de son mieux — Questionner et savoir écouter.\nLors de ce st
 age, nous “incorporons” ces cinq accords, soutenant de la puissanc
 e intégrante de la vivencia en Biodanza, notre désir de plénitude e
 t d’unité.\nPrix du stage (hors hébergement et repas) : 140 €\n\
 nPour plus d'information, aller sur https://epanews.fr/events/les-acco
 rds-tolteques-stage-de-biodanza
DTSTART;TZID=Europe/Paris:20110917T093000
DTEND;TZID=Europe/Paris:20110918T180000
CATEGORIES:83
LOCATION:Cogolin
WEBSITE:http://www.biodanza-med.com
URL:http://www.biodanza-med.com
CONTACT:06.50.20.00.76
ORGANIZER;CN="Hélène Lévy Benseft":https://epanews.fr/profile/Helen
 eLevyBenseft
ATTACH;FMTTYPE="image/jpeg":http://storage.ning.com/topology/rest/1.0/
 file/get/1662446918?profile=original
ATTENDEE;ROLE=REQ-PARTICIPANT;PARTSTAT=ACCEPTED;RSVP=TRUE;CN="Hélène
  Lévy Benseft":https://epanews.fr/profile/HeleneLevyBenseft
END:VEVENT
END:VCALENDAR
