BEGIN:VCALENDAR
PRODID:NingEventWidget-v1
VERSION:2.0
METHOD:PUBLISH
BEGIN:VTIMEZONE
TZID:Europe/Paris
X-LIC-LOCATION:Europe/Paris
BEGIN:DAYLIGHT
TZOFFSETFROM:+0100
TZOFFSETTO:+0200
TZNAME:CEST
DTSTART:19700329T020000
RRULE:FREQ=YEARLY;BYMONTH=3;BYDAY=-1SU
END:DAYLIGHT
BEGIN:STANDARD
TZOFFSETFROM:+0200
TZOFFSETTO:+0100
TZNAME:CET
DTSTART:19701025T030000
RRULE:FREQ=YEARLY;BYMONTH=10;BYDAY=-1SU
END:STANDARD
END:VTIMEZONE
BEGIN:VEVENT
UID:2485226:Event:1711839
DTSTAMP:20260421T222323Z
SUMMARY:Les abus sexuel : en parler, être entendu, en guérir
DESCRIPTION:Près d’une personne sur trois est concernée…. Aidée
 s dans leur cheminement, les victimes de ce traumatisme invisible, per
 nicieux, destructeur peuvent reconquérir leur sensibilité, leur cré
 ativité  et vivre avec les autres  des relations satisfaisantes le 
 mercredi 4 juin à 20 h, avec Fernande Amblard, médecin, gestalt-thé
 rapeute et sexologue\n\nPour plus d'information, aller sur https://epa
 news.fr/events/les-abus-sexuel-en-parler-tre-entendu-en-gu-rir
DTSTART;TZID=Europe/Paris:20140604T200000
DTEND;TZID=Europe/Paris:20140604T220000
CATEGORIES:87
LOCATION:Salle de conférence de la BFM (Bibliothèque Francophone Mul
 timédia) de Limoges -
WEBSITE:http://www.ilfc.fr
URL:http://www.ilfc.fr
CONTACT:0555325916
ORGANIZER:Atelier de Gestalt du LImousin
ATTACH;FMTTYPE="image/jpeg":
ATTENDEE;ROLE=REQ-PARTICIPANT;PARTSTAT=ACCEPTED;RSVP=TRUE;CN=newisa:ht
 tps://epanews.fr/profile/newisa
END:VEVENT
END:VCALENDAR
