BEGIN:VCALENDAR
PRODID:NingEventWidget-v1
VERSION:2.0
METHOD:PUBLISH
BEGIN:VTIMEZONE
TZID:Europe/Paris
X-LIC-LOCATION:Europe/Paris
BEGIN:DAYLIGHT
TZOFFSETFROM:+0100
TZOFFSETTO:+0200
TZNAME:CEST
DTSTART:19700329T020000
RRULE:FREQ=YEARLY;BYMONTH=3;BYDAY=-1SU
END:DAYLIGHT
BEGIN:STANDARD
TZOFFSETFROM:+0200
TZOFFSETTO:+0100
TZNAME:CET
DTSTART:19701025T030000
RRULE:FREQ=YEARLY;BYMONTH=10;BYDAY=-1SU
END:STANDARD
END:VTIMEZONE
BEGIN:VEVENT
UID:2485226:Event:1013857
DTSTAMP:20260422T201025Z
SUMMARY:Les 7 raisons Scientifiques de croire Ã  l'au-delÃ 
DESCRIPTION:par Jean Jacques CHARBONIER\nMEDECIN AnesthÃ©siste,\nLe Sp
 Ã©cialiste FranÃ§ais des ExpÃ©riences de MortÂ Provisoire (EMI)\nÂ \nL
 â€™expÃ©rience de ceux qui sont morts dâ€™un point de vue clinique (Ã©
 lectroencÃ©phalogramme et Ã©lectrocardiogramme) et Â«qui sont revenusÂ
 », nous apprend beaucoup sur ce quâ€™est Â Â«LA MORTÂ» et donc LA VIEâ
 €¦\nÂ \nÂ«Et si nous avions dÃ©jÃ  suffisamment dâ€™Ã©lÃ©ments rationn
 els et scientifiques pour pouvoir dire que lâ€™au-delÃ  existeâ€¦ Et s
 i ces preuves Ã©taient au nombre de 7â€¦, occultÃ©es par la pensÃ©e do
 gmatique matÃ©rialiste du monde Occidental... Fort de son expÃ©rience 
 de MÃ©decin AnesthÃ©siste depuis 25 ans et de ses recherches sur les e
 xpÃ©riences de mort clinique, le Dr Charbonier expose de faÃ§on percut
 ante les 7 raisons de croire Ã  lâ€™au-delÃ . Il fait voler en Ã©clats
  les arguments classiques des sceptiques et apporte un puissant rÃ©con
 fort Ã  ceux qui sont dans la douleur du deuil ou angoissÃ©s par la mo
 rt... Ces informations rÃ©volutionnaires changent radicalement notre r
 egard sur la vie et la mort.Â Â»\nÂ \nAvec le TÃ©moignage de Gilles BÃ
 ©dard, cÃ©lÃ¨bre ThÃ©rapeute Canadien ayant vÃ©cu une EMIâ€¦\n(Animate
 ur de 2 stages de ThÃ©rapie Â«Post EMIÂ», les 2 et 9 dÃ©cembre 2012 ; 
 info:06 10 07 45 74)\nwww.charbonier.fr\n_____________________________
 ________________________________________\nSur RESERVATION (nombre de p
 laces limitÃ©)\nÂ \nChÃ¨que de rÃ©servation (ordre Â«Terre De Ressourc
 esÂ»/non encaissÃ© avant la confÃ©rence) Ã  expÃ©dier Ã  :\nÂ«Terre De
  RessourcesÂ» 18 A rue DieudÃ© 13006 Marseille (confirmation Ã  rÃ©cep
 tion si mail)\n15 â‚¬/personne - 7 â‚¬ de 13 Ã  17 ans et gratuit moin
 s de 12 ans (ticket rÃ©cupÃ©rÃ© le jour mÃªme)\nLieu confÃ©renceÂ : Ma
 ison du BÃ¢timent, 344, Bd MicheletÂ  13009 Marseille, Parking gratuit
 \nPlus dâ€™Info : Lou GARLONE 06.10.07.45.74 info@terrederessources.co
 m\n\nPour plus d'information, aller sur https://epanews.fr/events/les-
 7-raisons-scientifiques-de-croire-l-au-del
DTSTART;TZID=Europe/Paris:20121202T100000
DTEND;TZID=Europe/Paris:20121202T123000
CATEGORIES:13
LOCATION:Maison du BÃ¢timent,
WEBSITE:
URL:
CONTACT:0610074574
ORGANIZER;CN="GARLONE Lou":https://epanews.fr/profile/GARLONELOU
ATTACH;FMTTYPE="image/jpeg":http://storage.ning.com/topology/rest/1.0/
 file/get/1662695534?profile=original
ATTENDEE;ROLE=REQ-PARTICIPANT;PARTSTAT=ACCEPTED;RSVP=TRUE;CN=MARIE55:h
 ttps://epanews.fr/profile/MARIE55
ATTENDEE;ROLE=REQ-PARTICIPANT;PARTSTAT=ACCEPTED;RSVP=TRUE;CN="GARLONE 
 Lou":https://epanews.fr/profile/GARLONELOU
ATTENDEE;ROLE=REQ-PARTICIPANT;PARTSTAT=TENTATIVE;RSVP=TRUE;CN=camille2
 012:https://epanews.fr/profile/camille2012
END:VEVENT
END:VCALENDAR
