BEGIN:VCALENDAR
PRODID:NingEventWidget-v1
VERSION:2.0
METHOD:PUBLISH
BEGIN:VTIMEZONE
TZID:Europe/Paris
X-LIC-LOCATION:Europe/Paris
BEGIN:DAYLIGHT
TZOFFSETFROM:+0100
TZOFFSETTO:+0200
TZNAME:CEST
DTSTART:19700329T020000
RRULE:FREQ=YEARLY;BYMONTH=3;BYDAY=-1SU
END:DAYLIGHT
BEGIN:STANDARD
TZOFFSETFROM:+0200
TZOFFSETTO:+0100
TZNAME:CET
DTSTART:19701025T030000
RRULE:FREQ=YEARLY;BYMONTH=10;BYDAY=-1SU
END:STANDARD
END:VTIMEZONE
BEGIN:VEVENT
UID:2485226:Event:2664712
DTSTAMP:20260421T152047Z
SUMMARY:Les 7 principes de la confiance en soi
DESCRIPTION:Bonjour à tous,\nAvez l’impression de manquer de confia
 nce en vous ? Avez-vous l’impression de douter de vous-même avant 
 devant un choix ? Avez-vous du mal à prendre les choses en main ?\n
 Le prochain atelier sur « Les 7 principes de la confiance en soi »
  est fait  pour vous !\nSamedi 25 juin de 9h30 à 17h00\n \nCe prog
 ramme vous enseignera comment développer votre confiance en vous-mêm
 e. Il est un cours complet et approfondi qui vous aidera à atteindre 
 un plus haut niveau de confiance et d'estime de soi. Découvrir les 
 7 principes de la confiance en soi pour vous ouvrir  à de nouvelles 
 perspectives de réussite dans tous les domaines de votre vie.\n \nAn
 imé par Véronique Sorrentino Consultante/formatrice - Psychothérape
 ute\nParticipation sur inscription au 06 17 21 36 95\nTarif : 98 € 
 Lieu : Centre de Psychologie Bien-être et Santé 323 Bd Voltaire 138
 21 LA PENNE SUR HUVEAUNE\n\n \n\nPour plus d'information, aller sur h
 ttps://epanews.fr/events/les-7-principes-de-la-confiance-en-soi
DTSTART;TZID=Europe/Paris:20160625T000000
DTEND;TZID=Europe/Paris:20160625T235900
CATEGORIES:13
LOCATION:Centre de Psychologie Bien-être et Santé
WEBSITE:http://www.connaissanceetsavoir.com
URL:http://www.connaissanceetsavoir.com
CONTACT:0617213695
ORGANIZER;CN="Véronique SORRENTINO":https://epanews.fr/profile/Connai
 ssanceetSavoir
ATTACH;FMTTYPE="image/jpeg":http://storage.ning.com/topology/rest/1.0/
 file/get/1663575537?profile=original
ATTENDEE;ROLE=REQ-PARTICIPANT;PARTSTAT=ACCEPTED;RSVP=TRUE;CN="Véroniq
 ue SORRENTINO":https://epanews.fr/profile/ConnaissanceetSavoir
END:VEVENT
END:VCALENDAR
