BEGIN:VCALENDAR
PRODID:NingEventWidget-v1
VERSION:2.0
METHOD:PUBLISH
BEGIN:VTIMEZONE
TZID:Europe/Paris
X-LIC-LOCATION:Europe/Paris
BEGIN:DAYLIGHT
TZOFFSETFROM:+0100
TZOFFSETTO:+0200
TZNAME:CEST
DTSTART:19700329T020000
RRULE:FREQ=YEARLY;BYMONTH=3;BYDAY=-1SU
END:DAYLIGHT
BEGIN:STANDARD
TZOFFSETFROM:+0200
TZOFFSETTO:+0100
TZNAME:CET
DTSTART:19701025T030000
RRULE:FREQ=YEARLY;BYMONTH=10;BYDAY=-1SU
END:STANDARD
END:VTIMEZONE
BEGIN:VEVENT
UID:2485226:Event:1122818
DTSTAMP:20260422T112423Z
SUMMARY:Les 6 chaudrons
DESCRIPTION:Â Â Â Â Â Â Â Â Â Â Â Â  Â Les 6 chaudronsÂ Â Â Â Â Â Â \n
 Plantation dâ€™arbres fruitiers les 17 et 18-1-13 de 10h Ã  17h\nVeill
 Ã©e nÃ©o traditionnelle le samedi 19-1-13 de 14h Ã  26h\nThÃ¨me 2Â : E
 tincelle.\nÂ  14hÂ : balade champÃªtre\nÂ  15hÂ : atelier Â Silence av
 ec David\nÂ  16hÂ : atelier culinaire\nÂ  17hÂ : atelier danse et chan
 t avec CÃ©cile\nÂ  18hÂ : atelier poÃ©sie avec FrÃ©dÃ©ric\nÂ  19hÂ : p
 rÃ©sentation de Serendipity HH : galerie dâ€™art, salon de tisanesâ€¦Â
  \nÂ Â Â Â Â Â Â Â Â Â Â Â Â Â Â Â Â Â Â  Â Vernissage de Dark Love (C
 Å“ur Obscur)Â avec Ronald\nÂ  20hÂ : table espagnole\nÂ  21hÂ : soirÃ©
 e, scÃ¨ne ouverte (lecture, acoustique, bÅ“uf â€¦)\nÂ  23hÂ : atelier 
 thÃ©Ã¢tre, improvisation avec FrÃ©dÃ©ric\nÂ  24hÂ : bÃ»cher Â (amenez 
 votre bouc Ã©missaire)\nAtelier de Sylviculture le 20-1-13 de 10h Ã  1
 2h et de 14h Ã  17h avec Thomas\nParticipation libreÂ Â Â Â Â Â Â Â Â 
 Â Â Â Â Â Â Â Â Â Â Â Â Â  Infos, covoiturage, HÃ©bergementÂ : 0563342
 167\nA la Sabaterie 81390 Briatexte Â Â Â Â Â Â http://fr.mappy.com/#d
 =La+sabaterie+81390+Briatexte&p=map\nÂ \nRepas et prÃ©sentation de lâ€
 ™association coopÃ©rative du dadagout le 20-1-13 Ã  partir de 12hÂ 30\
 nA la FontiÃ© 81390 BusqueÂ Â Â Â Â Â Â Â Â Â Â Â Â Â Â Â Â Â Â Â Â Â 
  InfosÂ : 0563587704\nÂ \nÂ Â Â  Svp amenez vos pantoufles, chaussonsâ
 €¦\nÂ Â Â  Svp faites voler ce flyÂ Â Â Â Â Â Â Â Â Â Â Â Â Â Â Â Â Â 
 Â Â Â Â  BienvenueÂ Â Â Â Â Â Â Â Â Â Â Â Â Â Â Â Â Â Â Â Â Â Â Â  Â Â
  Â Â Â Â Â Â Â Â Â Lâ€™innommable\n\nPour plus d'information, aller su
 r https://epanews.fr/events/les-6-chaudrons-1
DTSTART;TZID=Europe/Paris:20130119T130000
DTEND;TZID=Europe/Paris:20130120T020000
CATEGORIES:81
LOCATION:la sabaterie
WEBSITE:http://fr.mappy.com/#d=La+sabaterie+81390+Briatexte&p=map
URL:http://fr.mappy.com/#d=La+sabaterie+81390+Briatexte&p=map
CONTACT:0563342167
ORGANIZER;CN="david gaulhet":https://epanews.fr/profile/davidgaulhet
ATTACH;FMTTYPE="image/jpeg":http://storage.ning.com/topology/rest/1.0/
 file/get/1662736351?profile=original
ATTENDEE;ROLE=REQ-PARTICIPANT;PARTSTAT=ACCEPTED;RSVP=TRUE;CN="david ga
 ulhet":https://epanews.fr/profile/davidgaulhet
END:VEVENT
END:VCALENDAR
