BEGIN:VCALENDAR
PRODID:NingEventWidget-v1
VERSION:2.0
METHOD:PUBLISH
BEGIN:VTIMEZONE
TZID:Europe/Paris
X-LIC-LOCATION:Europe/Paris
BEGIN:DAYLIGHT
TZOFFSETFROM:+0100
TZOFFSETTO:+0200
TZNAME:CEST
DTSTART:19700329T020000
RRULE:FREQ=YEARLY;BYMONTH=3;BYDAY=-1SU
END:DAYLIGHT
BEGIN:STANDARD
TZOFFSETFROM:+0200
TZOFFSETTO:+0100
TZNAME:CET
DTSTART:19701025T030000
RRULE:FREQ=YEARLY;BYMONTH=10;BYDAY=-1SU
END:STANDARD
END:VTIMEZONE
BEGIN:VEVENT
UID:2485226:Event:2007313
DTSTAMP:20260424T142942Z
SUMMARY:Les 6 ancrages et enracinements - Séminaire Femmes (2 jours)
DESCRIPTION:2_les_6_ancrages_et_enracinements.doc\nSéminaire Résiden
 tiels deux jours :\nTarif séminaire : 200€\nTarif hébergement en p
 ension complète végétarienne : 140€\nPour toute information ou si
  le fichier n'est pas lisible, merci d'envoyer un mail à : planetetan
 tra@mail.com. Merci.\n\nPour plus d'information, aller sur https://epa
 news.fr/events/les-6-ancrages-et-enracinements-s-minaire-femmes
DTSTART;TZID=Europe/Paris:20150109T170000
DTEND;TZID=Europe/Paris:20150111T160000
CATEGORIES:28
LOCATION:Normandie à 1h30 de Paris en voiture
WEBSITE:http://www.theatredeschamps.eu
URL:http://www.theatredeschamps.eu
CONTACT:0033 (0)7 81 22 32 62
ORGANIZER;CN=Sarah:https://epanews.fr/profile/ladeesseduyogatantra
ATTACH;FMTTYPE="image/jpeg":http://storage.ning.com/topology/rest/1.0/
 file/get/1663190573?profile=original
ATTENDEE;ROLE=REQ-PARTICIPANT;PARTSTAT=ACCEPTED;RSVP=TRUE;CN=Sarah:htt
 ps://epanews.fr/profile/ladeesseduyogatantra
END:VEVENT
END:VCALENDAR
