BEGIN:VCALENDAR
PRODID:NingEventWidget-v1
VERSION:2.0
METHOD:PUBLISH
BEGIN:VTIMEZONE
TZID:Europe/Paris
X-LIC-LOCATION:Europe/Paris
BEGIN:DAYLIGHT
TZOFFSETFROM:+0100
TZOFFSETTO:+0200
TZNAME:CEST
DTSTART:19700329T020000
RRULE:FREQ=YEARLY;BYMONTH=3;BYDAY=-1SU
END:DAYLIGHT
BEGIN:STANDARD
TZOFFSETFROM:+0200
TZOFFSETTO:+0100
TZNAME:CET
DTSTART:19701025T030000
RRULE:FREQ=YEARLY;BYMONTH=10;BYDAY=-1SU
END:STANDARD
END:VTIMEZONE
BEGIN:VEVENT
UID:2485226:Event:2007412
DTSTAMP:20260422T114744Z
SUMMARY:les 6 ancrages et enracinements - séminaire femmes (2 jours r
 ésidentiel)
DESCRIPTION:2_les_6_ancrages_et_enracinements.doc\n\n\nTarif séminair
 e : 200€\nTarifs hébergement en pension complète végétarienne : 
 140€\nPour toute information ou si le fichier n'est pas lisible, mer
 ci d'envoyer un mail à :\nplanetetantra@mail.com\n\nPour plus d'infor
 mation, aller sur https://epanews.fr/events/les-6-ancrages-et-enracine
 ments-s-minaire-femmes-1
DTSTART;TZID=Europe/Paris:20150529T170000
DTEND;TZID=Europe/Paris:20150531T160000
CATEGORIES:83
LOCATION:Var
WEBSITE:
URL:
CONTACT:0033 (0)7 81 22 32 62
ORGANIZER:planete tantra
ATTACH;FMTTYPE="image/jpeg":http://storage.ning.com/topology/rest/1.0/
 file/get/1663191520?profile=original
ATTENDEE;ROLE=REQ-PARTICIPANT;PARTSTAT=ACCEPTED;RSVP=TRUE;CN=Sarah:htt
 ps://epanews.fr/profile/ladeesseduyogatantra
ATTENDEE;ROLE=REQ-PARTICIPANT;PARTSTAT=TENTATIVE;RSVP=TRUE;CN=Ga:https
 ://epanews.fr/profile/Ga350
END:VEVENT
END:VCALENDAR
