BEGIN:VCALENDAR
PRODID:NingEventWidget-v1
VERSION:2.0
METHOD:PUBLISH
BEGIN:VTIMEZONE
TZID:Europe/Paris
X-LIC-LOCATION:Europe/Paris
BEGIN:DAYLIGHT
TZOFFSETFROM:+0100
TZOFFSETTO:+0200
TZNAME:CEST
DTSTART:19700329T020000
RRULE:FREQ=YEARLY;BYMONTH=3;BYDAY=-1SU
END:DAYLIGHT
BEGIN:STANDARD
TZOFFSETFROM:+0200
TZOFFSETTO:+0100
TZNAME:CET
DTSTART:19701025T030000
RRULE:FREQ=YEARLY;BYMONTH=10;BYDAY=-1SU
END:STANDARD
END:VTIMEZONE
BEGIN:VEVENT
UID:2485226:Event:1802340
DTSTAMP:20260421T105648Z
SUMMARY:les 5 voies des guérisons spirituelles et énergétiques Conf
 érence
DESCRIPTION:les différentes voies des guérisons spirituelles et éne
 rgétiques, difficultés, limites, avantages, dangers, solutions...\n\
 nPour plus d'information, aller sur https://epanews.fr/events/les-5-vo
 ies-des-gu-risons-spirituelles-et-nerg-tiques-conf-renc-1
DTSTART;TZID=Europe/Paris:20140530T200000
DTEND;TZID=Europe/Paris:20140530T220000
CATEGORIES:75
LOCATION:forum 104
WEBSITE:http://cdacier@free.fr
URL:http://cdacier@free.fr
CONTACT:061219141
ORGANIZER:Christophe Dacier / reservation prudente
ATTACH;FMTTYPE="image/jpeg":http://storage.ning.com/topology/rest/1.0/
 file/get/1663074086?profile=original
ATTENDEE;ROLE=REQ-PARTICIPANT;PARTSTAT=ACCEPTED;RSVP=TRUE;CN="Christop
 he Dacier":https://epanews.fr/profile/ChristopheDacier
END:VEVENT
END:VCALENDAR
