BEGIN:VCALENDAR
PRODID:NingEventWidget-v1
VERSION:2.0
METHOD:PUBLISH
BEGIN:VTIMEZONE
TZID:Europe/Paris
X-LIC-LOCATION:Europe/Paris
BEGIN:DAYLIGHT
TZOFFSETFROM:+0100
TZOFFSETTO:+0200
TZNAME:CEST
DTSTART:19700329T020000
RRULE:FREQ=YEARLY;BYMONTH=3;BYDAY=-1SU
END:DAYLIGHT
BEGIN:STANDARD
TZOFFSETFROM:+0200
TZOFFSETTO:+0100
TZNAME:CET
DTSTART:19701025T030000
RRULE:FREQ=YEARLY;BYMONTH=10;BYDAY=-1SU
END:STANDARD
END:VTIMEZONE
BEGIN:VEVENT
UID:2485226:Event:253030
DTSTAMP:20260420T123714Z
SUMMARY:L'équilibre acido-basique une clé pour notre santé
DESCRIPTION:Atelier de Naturopathie Familiale \"l'équilibre acido bas
 ique une clé pour notre santé\" animé par Stéphanie Bassy Naturop
 athe et Praticienne en massage bien-être.\n \n- Qu'est ce que l'acid
 ose ?\n- Les conséquences de l'acidose\n- Retrouver un bon équilibre
  acido-basique\n \n10€ par personne\n \n\nPour plus d'information,
  aller sur https://epanews.fr/events/lequilibre-acidobasique-une
DTSTART;TZID=Europe/Paris:20110430T100000
DTEND;TZID=Europe/Paris:20110430T120000
CATEGORIES:84
LOCATION:Pertuis
WEBSITE:http://masanteonaturel.com/naturopathie_contact.html
URL:http://masanteonaturel.com/naturopathie_contact.html
CONTACT:06.74.13.17.21
ORGANIZER:Association pour l'épanouissement de la personne
ATTACH;FMTTYPE="image/jpeg":http://storage.ning.com/topology/rest/1.0/
 file/get/1662404512?profile=original
ATTENDEE;ROLE=REQ-PARTICIPANT;PARTSTAT=ACCEPTED;RSVP=TRUE;CN=Bassy:htt
 ps://epanews.fr/profile/Bassy
ATTENDEE;ROLE=REQ-PARTICIPANT;PARTSTAT=TENTATIVE;RSVP=TRUE;CN=Aphrodit
 e:https://epanews.fr/profile/Aphrodite
END:VEVENT
END:VCALENDAR
