BEGIN:VCALENDAR
PRODID:NingEventWidget-v1
VERSION:2.0
METHOD:PUBLISH
BEGIN:VTIMEZONE
TZID:Europe/Paris
X-LIC-LOCATION:Europe/Paris
BEGIN:DAYLIGHT
TZOFFSETFROM:+0100
TZOFFSETTO:+0200
TZNAME:CEST
DTSTART:19700329T020000
RRULE:FREQ=YEARLY;BYMONTH=3;BYDAY=-1SU
END:DAYLIGHT
BEGIN:STANDARD
TZOFFSETFROM:+0200
TZOFFSETTO:+0100
TZNAME:CET
DTSTART:19701025T030000
RRULE:FREQ=YEARLY;BYMONTH=10;BYDAY=-1SU
END:STANDARD
END:VTIMEZONE
BEGIN:VEVENT
UID:2485226:Event:183013
DTSTAMP:20260424T054538Z
SUMMARY:L'énergie vitale et les dommages collatéraux liés aux bless
 ures ancestrales
DESCRIPTION:Lieu de la conférence : \nle dimanche 16 janvier 2011 à
  partir de 14h00. \nHôtel KYRIAD DE CAHORS, 33 cotes des ormeaux 460
 0. \n(sortie de nord cahors ) \nFrais au participation : 10 euros \
 nInscription à partir du 3 janvier 2011 pour les conférences auprès
  du bureau ou par mail fluidevie@free.fr \nhttp://fluidevie.over-blog
 .com/article-associat... \nMelle DIAGNE Hélène-Audrey \ntel: 06 14
  74 58 59 / 05 61 91 49 67 \nMelle ALEMANY Pascale et Colette \ntel:
  06 15 14 13 94 \n2 intervenants: \nen première partie: \nJean Mor
 zelle a vécu une expérience de mort imminente, une EMI, le 9 juin 19
 49. Alors qu’il n’était âgé que de vingt ans, il s’est grièv
 ement blessé au cours d’une manœuvre militaire et va connaître un
 e expérience unique, d’une puissance incomparable : \n« Après av
 oir reçu cette balle dans la poitrine, j’ai été hospitalité à l
 ’hôpital de Toulouse, où je suis arrivé de nuit dans un état cri
 tique. Je suis tombé dans un trou noir, je me suis senti profondémen
 t enfoncé dans un trou très noir. Lorsque je me suis réveillé, la 
 surprise fut totale : je me trouvais en haut d’une pièce que je ne 
 connaissais pas, dans laquelle on opérait une personne. Je me trouvai
 s en l’air, regardant le spectacle, intrigué, intéressé mais null
 ement inquiet. Je n’ai jamais eu la moindre inquiétude pendant tout
  ce voyage particulier [...].Mon esprit est sorti de mon corps, je me 
 suis promené en l'air,j'ai traversé les murs de l'hôpital,j'entenda
 is les gens parlaient dans leur tête puis j'ai été transporté dans
  un tunnel au bout duquel il y avait une lumière éclatante,plus ébl
 ouissante que le soleil et j'ai réintégré mon corps. Cette expérie
 nce a changé ma vision de la vie.Je crois que nous avons une heure po
 ur mourir,ce n'était pas la mienne.Je crois en la réincarnation et j
 e parle à Dieu à ma façon mais je me suis éloigné de l'église qu
 i est une représentation humaine de Dieu .» \nLa personne qu'il obs
 erve du dessus, il va rapidement le comprendre, c’est... son propre 
 corps ! Durant son \n« voyage » il va se déplacer à travers cet h
 ôpital qu’il ne connaît pas, et garder le souvenir de nombreux él
 éments. Lorsque dans les jours qui suivent, revenu à la vie, il s’
 en livrera au chirurgien, la précision de ces souvenirs, la connaissa
 nce de certains détails qu’il n’était pas en état d’avoir obs
 ervé, laisseront le médecin abasourdi. \nJean Morzelle livre le té
 moignage de son expérience dans son livre Tout commence après, aprè
 s avoir gardé pendant 40 ans le silence sur ce qu'il avait vécu. Cet
  auteur vit actuellement à Toulouse. \nPour en savoir plus sur cet a
 uteur, vous pouvez visiter son site internet personnel à l'adresse su
 ivante : \nhttp://jean-morzelle.moonfruit.fr \net \nEn seconde Part
 ie nous aurons le plaisir de recevoir: \nMonsieur Gil BORIE (énergé
 ticien). \nIl pratique les Techniques de soins Quantiques, Barreur de
  feu... il soigne à distance. Je vous conseil son site . \nbien-etre
 -en-soi.gilangel.over-blog.com ou son adresse email \nbien.etre.en.so
 i@gmail.com \nIl parlera de la circulation de l'énergie dans les cor
 ps et aussi des dommages collatéraux liés aux blessures ancestrales.
  \nPar radiesthésie, sur plusieurs volontaire il mettra en évidence
  la présence des impacts dans notre organisme \ndes blessures fantô
 mes.\nCahors - Midi-Pyrénées\n\nPour plus d'information, aller sur h
 ttps://epanews.fr/events/lenergie-vitale-et-les
DTSTART;TZID=Europe/Paris:20110116T140000
DTEND;TZID=Europe/Paris:20110116T170000
CATEGORIES:46, 82, 12, 31, 81
LOCATION:cahors
WEBSITE:http://fluidevie.over-blog.com/article-association-fluide-de-v
 ie-59298215.html
URL:http://fluidevie.over-blog.com/article-association-fluide-de-vie-5
 9298215.html
CONTACT:0 682 689 625
ORGANIZER:Phénix Angel sous couvert de l'association fluide de vie
ATTACH;FMTTYPE="image/jpeg":http://storage.ning.com/topology/rest/1.0/
 file/get/1662375245?profile=original
ATTENDEE;ROLE=REQ-PARTICIPANT;PARTSTAT=ACCEPTED;RSVP=TRUE;CN="Phénix 
 Angel":https://epanews.fr/profile/PhenixAngel
END:VEVENT
END:VCALENDAR
