BEGIN:VCALENDAR
PRODID:NingEventWidget-v1
VERSION:2.0
METHOD:PUBLISH
BEGIN:VTIMEZONE
TZID:Europe/Paris
X-LIC-LOCATION:Europe/Paris
BEGIN:DAYLIGHT
TZOFFSETFROM:+0100
TZOFFSETTO:+0200
TZNAME:CEST
DTSTART:19700329T020000
RRULE:FREQ=YEARLY;BYMONTH=3;BYDAY=-1SU
END:DAYLIGHT
BEGIN:STANDARD
TZOFFSETFROM:+0200
TZOFFSETTO:+0100
TZNAME:CET
DTSTART:19701025T030000
RRULE:FREQ=YEARLY;BYMONTH=10;BYDAY=-1SU
END:STANDARD
END:VTIMEZONE
BEGIN:VEVENT
UID:2485226:Event:1294936
DTSTAMP:20260421T124911Z
SUMMARY:Lectures d'Ã¢mes consultations
DESCRIPTION:\nLa lecture dâ€™Ã¢me est une discussion dâ€™Ã¢me Ã  Ã¢me.
 Â Â Lire une Ã¢me, c'est voir non pas le passÃ©, prÃ©sent, avenir, mai
 s lâ€™aspiration de lâ€™entitÃ© qui consulte dans un Ã©ternel prÃ©sent
  en dehors du temps linÃ©aire.Â Â La lecture de l'Ã¢me se fait au nive
 au de la poitrine, de cÅ“ur Ã  cÅ“ur, qui est Ã  diffÃ©rencier de la l
 ecture des pensÃ©es et de la tÃ©lÃ©pathie, qui se fait lÃ  au niveau d
 e la tÃªte.\n\nÂ Â La lecture d'Ã‚me est une technique de clairvoyance
  sans aucun support de divination. Elle est profondÃ©ment spirituelleÂ
  et permet de capter les aspirations de l'Ã‚me dans son essence etÂ am
 Ã¨ne Ã  la personne qui consulte, dâ€™Ãªtre touchÃ©e dans son EtreÂ pr
 ofond et de comprendre au moment de la consultation QUI elle EST rÃ©el
 lementÂ au-delÃ  des illusions, prisons mentale, Ã©motionnelle et phys
 ique de la vie humaine.Â \n\nÂ Â Lors de la lecture, je reÃ§ois des fl
 ashs et des ressentis Ã©motionnels envoyÃ©s par votre Ã‚me.Â Votre Ã¢m
 e me raconteÂ son voyage souvent sous forme poÃ©tique. Son rÃ©cit est 
 souvent de nature cosmique et allÃ©gorique. Ainsi,Â la lecture d'Ã‚me 
 peut vous en apprendre plus sur votre nature profonde, vous permettre 
 de dÃ©couvrir vos forces et ce qui vous compose, faire rÃ©fÃ©rence Ã  
 des vies parallÃ¨les ayant une importance dans votre vie actuelle, ce 
 que vous avez appris et ce que vous devez apprendre, et bien d'autres 
 choses encore : cela dÃ©pend de chaque consultant et des messages que 
 l'Ã‚me veut transmettre Ã  ce moment prÃ©cis.\nÂ il faut aborder cette
  dÃ©marche avec le cÅ“ur pur et une volontÃ© vÃ©ritable de vous rencon
 trer\n\nÂ \nÂ consultation sur CD inclus\nDurÃ©e environ 1h Â  : 49 eu
 ros\n\nPour plus d'information, aller sur https://epanews.fr/events/le
 ctures-d-mes-consultations
DTSTART;TZID=Europe/Paris:20130620T130000
DTEND;TZID=Europe/Paris:20130620T170000
CATEGORIES:66
LOCATION:Perpignan
WEBSITE:http://http;//artistedelajoieetdelavie.over_blog.com
URL:http://http;//artistedelajoieetdelavie.over_blog.com
CONTACT:
ORGANIZER;CN="Brigitte Ahoia":https://epanews.fr/profile/BrigitteAhoia
ATTACH;FMTTYPE="image/jpeg":http://storage.ning.com/topology/rest/1.0/
 file/get/1662805613?profile=original
ATTENDEE;ROLE=REQ-PARTICIPANT;PARTSTAT=ACCEPTED;RSVP=TRUE;CN="Brigitte
  Ahoia":https://epanews.fr/profile/BrigitteAhoia
END:VEVENT
END:VCALENDAR
