BEGIN:VCALENDAR
PRODID:NingEventWidget-v1
VERSION:2.0
METHOD:PUBLISH
BEGIN:VTIMEZONE
TZID:Europe/Paris
X-LIC-LOCATION:Europe/Paris
BEGIN:DAYLIGHT
TZOFFSETFROM:+0100
TZOFFSETTO:+0200
TZNAME:CEST
DTSTART:19700329T020000
RRULE:FREQ=YEARLY;BYMONTH=3;BYDAY=-1SU
END:DAYLIGHT
BEGIN:STANDARD
TZOFFSETFROM:+0200
TZOFFSETTO:+0100
TZNAME:CET
DTSTART:19701025T030000
RRULE:FREQ=YEARLY;BYMONTH=10;BYDAY=-1SU
END:STANDARD
END:VTIMEZONE
BEGIN:VEVENT
UID:2485226:Event:2697067
DTSTAMP:20260421T155133Z
SUMMARY:Lecture et agapes
DESCRIPTION:☼\nSAMEDI 27 AOUT à 18 h - GRATUIT - Soirée lecture et
  partages : dans un premier temps, je vous invite à écouter cinq his
 toires du livre \"FAIRE LA PAIX\" de Jean-Yves LELOUP, puis ensuite no
 us nous restaurerons autour d'une bonne table improvisée, chacun éta
 nt invité à apporter ce qu'il aime boire et manger. Comme il y a peu
  de places, merci de réserver par mail. C'est ouvert à tout le monde
  et ce sera une occasion de nous rencontrer en toute simplicité. A bi
 entôt.\n☼\nSoirée gratuite sur réservation par mail :\njoyaume@la
 poste.net\n\nPour plus d'information, aller sur https://epanews.fr/eve
 nts/lecture-et-agapes-1
DTSTART;TZID=Europe/Paris:20160827T180000
DTEND;TZID=Europe/Paris:20160827T220000
CATEGORIES:69
LOCATION:Lyon 7
WEBSITE:http://relaxation-lyon-michel-sarunac.e-monsite.com/
URL:http://relaxation-lyon-michel-sarunac.e-monsite.com/
CONTACT:06 99 29 80 19
ORGANIZER;CN=Joyaume:https://epanews.fr/profile/Joyaume
ATTACH;FMTTYPE="image/jpeg":http://storage.ning.com/topology/rest/1.0/
 file/get/1663585454?profile=original
ATTENDEE;ROLE=REQ-PARTICIPANT;PARTSTAT=ACCEPTED;RSVP=TRUE;CN=Joyaume:h
 ttps://epanews.fr/profile/Joyaume
END:VEVENT
END:VCALENDAR
