BEGIN:VCALENDAR
PRODID:NingEventWidget-v1
VERSION:2.0
METHOD:PUBLISH
BEGIN:VTIMEZONE
TZID:Europe/Paris
X-LIC-LOCATION:Europe/Paris
BEGIN:DAYLIGHT
TZOFFSETFROM:+0100
TZOFFSETTO:+0200
TZNAME:CEST
DTSTART:19700329T020000
RRULE:FREQ=YEARLY;BYMONTH=3;BYDAY=-1SU
END:DAYLIGHT
BEGIN:STANDARD
TZOFFSETFROM:+0200
TZOFFSETTO:+0100
TZNAME:CET
DTSTART:19701025T030000
RRULE:FREQ=YEARLY;BYMONTH=10;BYDAY=-1SU
END:STANDARD
END:VTIMEZONE
BEGIN:VEVENT
UID:2485226:Event:30112
DTSTAMP:20260421T132200Z
SUMMARY:\"Le YOGA, la Relaxation et l'Enfant\"
DESCRIPTION:Cette formation sâ€™appuie sur un enseignement millÃ©naire
 , le YOGA (dans son sens le plus large), dont les bienfaits sont de pl
 us en plus reconnus de nos jours par la science. La RELAXATION est lâ€
 ™une des branches de ce savoir, de mÃªme que la communication pacifiqu
 e, lâ€™Ã©ducation Ã©motionnelle et relationnelle, lâ€™hygiÃ¨ne corpore
 lle, et la concentration, entre autres. La relaxation est lâ€™axe prim
 ordial, incluse dans tous les exercices, elle permet dâ€™intÃ©grer Ã  
 un niveau profond.\nElle vise lâ€™Ã©panouissement de lâ€™enfant et de 
 lâ€™Ã©ducateur sur tous les plans\nPublics concernÃ©s :\nTout adulte \
 "accompagnant\" d'enfants (parent, Ã©ducateur, enseignant, animateur .
 ..)\nainsi que les personnes animant des \"groupes dÃ©tentes\" adultes
  (et personnes Ã¢gÃ©es)\net celles dÃ©sirant simplement rÃ©veiller \"l
 eur enfant intÃ©rieur\".\nformation sur 15 jours complets, dates du 1e
 r module prÃ©-requis : 16 au 18 avril 2010\n\nPour plus d'information,
  aller sur https://epanews.fr/events/le-yoga-la-relaxation-et
DTSTART;TZID=Europe/Paris:20100416T000000
DTEND;TZID=Europe/Paris:20100418T235900
CATEGORIES:69
LOCATION:RÃ©gion Lyonnaise
WEBSITE:http://www.serelaxer.net/
URL:http://www.serelaxer.net/
CONTACT:05.67.44.34.08
ORGANIZER;CN=Patricia:https://epanews.fr/profile/PatriciaB
ATTACH;FMTTYPE="image/jpeg":
ATTENDEE;ROLE=REQ-PARTICIPANT;PARTSTAT=ACCEPTED;RSVP=TRUE;CN=Patricia:
 https://epanews.fr/profile/PatriciaB
END:VEVENT
END:VCALENDAR
