BEGIN:VCALENDAR
PRODID:NingEventWidget-v1
VERSION:2.0
METHOD:PUBLISH
BEGIN:VTIMEZONE
TZID:Europe/Paris
X-LIC-LOCATION:Europe/Paris
BEGIN:DAYLIGHT
TZOFFSETFROM:+0100
TZOFFSETTO:+0200
TZNAME:CEST
DTSTART:19700329T020000
RRULE:FREQ=YEARLY;BYMONTH=3;BYDAY=-1SU
END:DAYLIGHT
BEGIN:STANDARD
TZOFFSETFROM:+0200
TZOFFSETTO:+0100
TZNAME:CET
DTSTART:19701025T030000
RRULE:FREQ=YEARLY;BYMONTH=10;BYDAY=-1SU
END:STANDARD
END:VTIMEZONE
BEGIN:VEVENT
UID:2485226:Event:2461951
DTSTAMP:20260419T181527Z
SUMMARY:Le yoga du son
DESCRIPTION:Philippe Garnier est de Passage Ã  Insipre Yoga au centre 
 d'Avignon pour un atelierÂ Jaya Yoga, la conscience du Naad; suivi d'u
 ne concrÃ¨te expÃ©rience de mÃ©decine vibratoire, une bain de soins so
 nore pour le corps, lâ€™esprit et Lâ€™Ã¢me.\nSound Healing ou mÃ©decin
 e vibratoire, stimule lâ€™Ã©tat dâ€™unitÃ©, les sons rÃ©parateur touch
 e lâ€™Ã©nergie vitale (bioelectrique) et le corps molÃ©culaire, lâ€™ef
 fet est donc physique et psychique aussi que spirituel, les soins sono
 res ouvre le cÅ“ur, amÃ©liore la concentration et la crÃ©ativitÃ©, inv
 ite Ã  la communication non violente, et non rÃ©active, aide Ã  la pri
 se de dÃ©cision, normalise la tension artÃ©rielle, aide Ã  soulager lâ
 €™insomnie, restaure lâ€™Ã©quilibre du systÃ¨me immunitaire, stimule l
 â€™expansion due sens de lâ€™ouÃ¯e, harmonise la respiration, synchron
 ise les hÃ©misphÃ¨res gauches et droit du cerveau.\n\nPour plus d'info
 rmation, aller sur https://epanews.fr/events/le-yoga-du-son
DTSTART;TZID=Europe/Paris:20151107T190000
DTEND;TZID=Europe/Paris:20151107T210000
CATEGORIES:84
LOCATION:Inspire yoga Avignon
WEBSITE:http://www.inspireyogaavignon.fr/
URL:http://www.inspireyogaavignon.fr/
CONTACT:06 05 31 25 08
ORGANIZER;CN="Sage Center AcademyOfSoundEnergy":https://epanews.fr/pro
 file/SageCenterAcademyOfSoundEnergy
ATTACH;FMTTYPE="image/jpeg":http://storage.ning.com/topology/rest/1.0/
 file/get/1663475946?profile=original
ATTENDEE;ROLE=REQ-PARTICIPANT;PARTSTAT=ACCEPTED;RSVP=TRUE;CN="Sage Cen
 ter AcademyOfSoundEnergy":https://epanews.fr/profile/SageCenterAcademy
 OfSoundEnergy
END:VEVENT
END:VCALENDAR
