BEGIN:VCALENDAR
PRODID:NingEventWidget-v1
VERSION:2.0
METHOD:PUBLISH
BEGIN:VTIMEZONE
TZID:Europe/Paris
X-LIC-LOCATION:Europe/Paris
BEGIN:DAYLIGHT
TZOFFSETFROM:+0100
TZOFFSETTO:+0200
TZNAME:CEST
DTSTART:19700329T020000
RRULE:FREQ=YEARLY;BYMONTH=3;BYDAY=-1SU
END:DAYLIGHT
BEGIN:STANDARD
TZOFFSETFROM:+0200
TZOFFSETTO:+0100
TZNAME:CET
DTSTART:19701025T030000
RRULE:FREQ=YEARLY;BYMONTH=10;BYDAY=-1SU
END:STANDARD
END:VTIMEZONE
BEGIN:VEVENT
UID:2485226:Event:1055098
DTSTAMP:20260421T202109Z
SUMMARY:Le voyage du héros
DESCRIPTION:un jour le héros entend un appel et décide de se mettre 
 en route... le héros c'est vous! si vous avez un projet personnel ou 
 professionnel, venez participer à ce stage qui vous emmènera sur le 
 chemin de la transformation... Mélange de sophrologie classique, ludi
 que et de coaching, sur le chemin du qui suis je.\n\nPour plus d'infor
 mation, aller sur https://epanews.fr/events/le-voyage-du-h-ros
DTSTART;TZID=Europe/Paris:20130126T000000
DTEND;TZID=Europe/Paris:20130127T235900
CATEGORIES:05
LOCATION:Poterie Terre et feu
WEBSITE:
URL:
CONTACT:0630297600
ORGANIZER:Delphine et l'association perm'être
ATTACH;FMTTYPE="image/jpeg":
ATTENDEE;ROLE=REQ-PARTICIPANT;PARTSTAT=ACCEPTED;RSVP=TRUE;CN=Delphine:
 https://epanews.fr/profile/Delphine279
END:VEVENT
END:VCALENDAR
