BEGIN:VCALENDAR
PRODID:NingEventWidget-v1
VERSION:2.0
METHOD:PUBLISH
BEGIN:VTIMEZONE
TZID:Europe/Paris
X-LIC-LOCATION:Europe/Paris
BEGIN:DAYLIGHT
TZOFFSETFROM:+0100
TZOFFSETTO:+0200
TZNAME:CEST
DTSTART:19700329T020000
RRULE:FREQ=YEARLY;BYMONTH=3;BYDAY=-1SU
END:DAYLIGHT
BEGIN:STANDARD
TZOFFSETFROM:+0200
TZOFFSETTO:+0100
TZNAME:CET
DTSTART:19701025T030000
RRULE:FREQ=YEARLY;BYMONTH=10;BYDAY=-1SU
END:STANDARD
END:VTIMEZONE
BEGIN:VEVENT
UID:2485226:Event:2710303
DTSTAMP:20260422T094205Z
SUMMARY:Le trÃ©sor de la confiance en soi
DESCRIPTION:DÃ©voiler son potentiel crÃ©atif pour devenir crÃ©ateur de
  sa vie.Â Confiance en soi, confiance Ã  Soi, confiance en l'autre, co
 nfiance dans la Vie ... Non pas un rÃªve mais un choix. A travers le Q
 i Gong, la marche silencieuse,Â le chant sacrÃ© et la crÃ©ation sponta
 nÃ©e,Â nous explorerons les potentiels intuitifs de notre Ãªtre Ã  l'Ã
 ©coute de ce qui se tisse en nous comme histoire corporelle et spiritu
 elle en vue dâ€™ouvrir un chemin de crÃ©ativitÃ© libre, joyeux et insp
 irÃ©.Â Les gravures rupestres de la Varaime Ã©veilleront notre curiosi
 tÃ© profonde et les chevaux, lesÂ arbres et lâ€™eau accompagneront nos
  dÃ©couvertes.Â \nRencontre en prÃ©sence simple et authentique par laÂ
  spontanÃ©itÃ© du geste et de l'esprit. Relier spiritualitÃ© et crÃ©at
 ivitÃ© en dialogue avec les arbres, les roches, les parfums, les lumiÃ
 ¨res et les vents. CrÃ©er avec les ressentis et la confiance de ce qui
  arrive...â€‹5 jours en DrÃ´me Vercors.Stage 280 euros (visite de la g
 rotte rupestre et matÃ©riel art compris)+ HÃ©bergement/salle 230 euros
  en pension complÃ¨te cuisine vÃ©gÃ©tarienne biologique et locale.\n\n
 Pour plus d'information, aller sur https://epanews.fr/events/le-tr-sor
 -de-la-confiance-en-soi
DTSTART;TZID=Europe/Paris:20161024T100000
DTEND;TZID=Europe/Paris:20161028T170000
CATEGORIES:26
LOCATION:Boulc
WEBSITE:http://www.marcheetdessine.com/soubreroche-oct16.html
URL:http://www.marcheetdessine.com/soubreroche-oct16.html
CONTACT:0684442913
ORGANIZER:Laurence Medori
ATTACH;FMTTYPE="image/jpeg":http://storage.ning.com/topology/rest/1.0/
 file/get/1663601172?profile=original
ATTENDEE;ROLE=REQ-PARTICIPANT;PARTSTAT=ACCEPTED;RSVP=TRUE;CN="Laurence
  Medori":https://epanews.fr/profile/LM174
END:VEVENT
END:VCALENDAR
