BEGIN:VCALENDAR
PRODID:NingEventWidget-v1
VERSION:2.0
METHOD:PUBLISH
BEGIN:VTIMEZONE
TZID:Europe/Paris
X-LIC-LOCATION:Europe/Paris
BEGIN:DAYLIGHT
TZOFFSETFROM:+0100
TZOFFSETTO:+0200
TZNAME:CEST
DTSTART:19700329T020000
RRULE:FREQ=YEARLY;BYMONTH=3;BYDAY=-1SU
END:DAYLIGHT
BEGIN:STANDARD
TZOFFSETFROM:+0200
TZOFFSETTO:+0100
TZNAME:CET
DTSTART:19701025T030000
RRULE:FREQ=YEARLY;BYMONTH=10;BYDAY=-1SU
END:STANDARD
END:VTIMEZONE
BEGIN:VEVENT
UID:2485226:Event:2122563
DTSTAMP:20260425T152543Z
SUMMARY:\"Le thé de Noel\" rencontre, cadeau, papotage....
DESCRIPTION:Bonjour, je vous invite le vendredi 12 décembre dés 17h 
 au \"THÉ DE NOËL\"Un temps autour d' un thé et de petits gâteaux 
 de Noël, pour partage, papoter...Vous pourrez également découvrir t
 outes mes activités, soins que je proposeIl y aura aussi la possibili
 té d' offrir :*Le livre Terres des femmes,*Les tisanes du Chant des a
 rbres,*Les élixirs huileux de minéraux de Marie France Pichot*Les re
 cueil de poésie\" fait main du Chant des arbres*Les bons pour les soi
 ns féminins, rebozo , stage...Au plaisir de vous accueillie de 17h à
  21h au 64 rue porte Cancière Prolongée à NîmesÀ bientôt Yaël
   http://lechantdesarbres.over-blog.com Ps:merci de me confirmer vot
 re passage\n\nPour plus d'information, aller sur https://epanews.fr/ev
 ents/le-th-de-noel-rencontre-cadeau-papotage
DTSTART;TZID=Europe/Paris:20141212T190000
DTEND;TZID=Europe/Paris:20141212T210000
CATEGORIES:30
LOCATION:nimes
WEBSITE:
URL:
CONTACT:
ORGANIZER;CN=Yaël:https://epanews.fr/profile/yael
ATTACH;FMTTYPE="image/jpeg":http://storage.ning.com/topology/rest/1.0/
 file/get/1663258355?profile=original
ATTENDEE;ROLE=REQ-PARTICIPANT;PARTSTAT=ACCEPTED;RSVP=TRUE;CN=Yaël:htt
 ps://epanews.fr/profile/yael
END:VEVENT
END:VCALENDAR
