BEGIN:VCALENDAR
PRODID:NingEventWidget-v1
VERSION:2.0
METHOD:PUBLISH
BEGIN:VTIMEZONE
TZID:Europe/Paris
X-LIC-LOCATION:Europe/Paris
BEGIN:DAYLIGHT
TZOFFSETFROM:+0100
TZOFFSETTO:+0200
TZNAME:CEST
DTSTART:19700329T020000
RRULE:FREQ=YEARLY;BYMONTH=3;BYDAY=-1SU
END:DAYLIGHT
BEGIN:STANDARD
TZOFFSETFROM:+0200
TZOFFSETTO:+0100
TZNAME:CET
DTSTART:19701025T030000
RRULE:FREQ=YEARLY;BYMONTH=10;BYDAY=-1SU
END:STANDARD
END:VTIMEZONE
BEGIN:VEVENT
UID:2485226:Event:20731
DTSTAMP:20260421T140833Z
SUMMARY:\"Le Temps des Ancêtres\"
DESCRIPTION:\n« MEDECINE DE LA TERRE »\n\n« Le Temps des Ancêtr
 es»\n\nÊtre conscient et participatif d'une des grandes lois de la v
 ie,\nbien au delà des limites de la matière...\nEnseignements, ritue
 ls et pratiques,\nissus de la Sagesse Universelle animeront cette jou
 rnée, dans le respect et la fraternité. \n\n\nLE SAMEDI 31 OCTOBR
 E 2009\n\nde 9 heures à 17 heures\n\nà Gagnières (30) en yourte\n(p
 ratique sur site mégalithique)\n\n\n\nDe tout temps et de toute cultu
 re, les ancêtres ont fait l'objet de culte pour enseigner, guider et 
 maintenir l'équilibre au sein des sociétés et clans familiaux. Aujo
 urd'hui, fort de cette expérience engrammée dans la conscience colle
 ctive, cette sagesse nous permet d'appréhender le flux continu de la
  vie, bien au-delà des limites de la matière\n\"Médecine de la Terr
 e\" vous invite à développer vos perceptions intuitives et subtiles,
  conforter la reliance tout en cultivant clarté et discernement.\nC'e
 st donc à l'occasion de cette période calendaire retenue par diverse
 s traditions, que je vous propose de participer à cette journée, où
  les Ancêtre seront au cœur de notre pensée et avec eux, tout le se
 ns qu'il nous est donné de\ncomprendre le rythme des cycles de mort 
 et renaissance.\nrenseignements et inscriptions :\n\nSoara DEBARD\n
  06 80 73 62 04 / 04 75 38 40 69\nEmail : soara.d@hotmail.fr\n\nTarif 
 : 60 € la journée\n\nPour plus d'information, aller sur https://epa
 news.fr/events/le-temps-des-ancetres
DTSTART;TZID=Europe/Paris:20091031T000000
DTEND;TZID=Europe/Paris:20091031T235900
CATEGORIES:30
LOCATION:Journée
WEBSITE:
URL:
CONTACT:06 80 73 62 04
ORGANIZER;CN="Soara Debard":https://epanews.fr/profile/SoaraDebard
ATTACH;FMTTYPE="image/jpeg":http://storage.ning.com/topology/rest/1.0/
 file/get/1662282444?profile=original
ATTENDEE;ROLE=REQ-PARTICIPANT;PARTSTAT=ACCEPTED;RSVP=TRUE;CN="Soara De
 bard":https://epanews.fr/profile/SoaraDebard
END:VEVENT
END:VCALENDAR
