BEGIN:VCALENDAR
PRODID:NingEventWidget-v1
VERSION:2.0
METHOD:PUBLISH
BEGIN:VTIMEZONE
TZID:Europe/Paris
X-LIC-LOCATION:Europe/Paris
BEGIN:DAYLIGHT
TZOFFSETFROM:+0100
TZOFFSETTO:+0200
TZNAME:CEST
DTSTART:19700329T020000
RRULE:FREQ=YEARLY;BYMONTH=3;BYDAY=-1SU
END:DAYLIGHT
BEGIN:STANDARD
TZOFFSETFROM:+0200
TZOFFSETTO:+0100
TZNAME:CET
DTSTART:19701025T030000
RRULE:FREQ=YEARLY;BYMONTH=10;BYDAY=-1SU
END:STANDARD
END:VTIMEZONE
BEGIN:VEVENT
UID:2485226:Event:2309004
DTSTAMP:20260420T191252Z
SUMMARY:Modification demandée
DESCRIPTION:je vous mets l'affiche concernant la venue des moines à L
 a Douce Marie le Samedi 2 Mai 2015 à partir de 15h avec vente artisan
 al Tibétaines, Divinations(MO) par un des moines, prières(Poujas), b
 énédictions de la maison(récitations des soutras), prières et ritu
 els(Shabten), Et bien sur le spectacle à 20h où 10 tableaux vivants 
 vont se succéder; Nous espérons vous voir nombreux pour ce cadeau qu
 'ils nous font! Plein de Lumière...\n\nPour plus d'information, aller
  sur https://epanews.fr/events/le-souffle-de-ngari
DTSTART;TZID=Europe/Paris:20150502T150000
DTEND;TZID=Europe/Paris:20150502T230000
CATEGORIES:12
LOCATION:Au lieu dit La nouaillé près de La Rouquette, de Villefranc
 he de rouergue et à 10m de Parisot
WEBSITE:
URL:
CONTACT:
ORGANIZER;CN=shekinah0110:https://epanews.fr/profile/shekinah0110
ATTACH;FMTTYPE="image/jpeg":http://storage.ning.com/topology/rest/1.0/
 file/get/1663384375?profile=original
ATTENDEE;ROLE=REQ-PARTICIPANT;PARTSTAT=ACCEPTED;RSVP=TRUE;CN=shekinah0
 110:https://epanews.fr/profile/shekinah0110
END:VEVENT
END:VCALENDAR
