BEGIN:VCALENDAR
PRODID:NingEventWidget-v1
VERSION:2.0
METHOD:PUBLISH
BEGIN:VTIMEZONE
TZID:Europe/Paris
X-LIC-LOCATION:Europe/Paris
BEGIN:DAYLIGHT
TZOFFSETFROM:+0100
TZOFFSETTO:+0200
TZNAME:CEST
DTSTART:19700329T020000
RRULE:FREQ=YEARLY;BYMONTH=3;BYDAY=-1SU
END:DAYLIGHT
BEGIN:STANDARD
TZOFFSETFROM:+0200
TZOFFSETTO:+0100
TZNAME:CET
DTSTART:19701025T030000
RRULE:FREQ=YEARLY;BYMONTH=10;BYDAY=-1SU
END:STANDARD
END:VTIMEZONE
BEGIN:VEVENT
UID:2485226:Event:1059813
DTSTAMP:20260422T083451Z
SUMMARY:Le sommet mondial de la réussite
DESCRIPTION:16 conférences gratuites du 4 décembre au 10 décembre. 
 Sur le net, chez vous, 2 conférences par jour avec 16 experts\nOrgani
 sé pour la 2° année par Caroline Dubois, thérapeute, formatrice et
  coach en EFT, belge\ns'inscrire sur le site www.lesommetdelareussite.
 com\nC'est le cadeau du passage de 2012 à 2013 !!!\n \n\nPour plus d
 'information, aller sur https://epanews.fr/events/le-sommet-mondial-de
 -la-r-ussite
DTSTART;TZID=Europe/Paris:20121204T190000
DTEND;TZID=Europe/Paris:20121210T220000
CATEGORIES:dans, tous, les, départements
LOCATION:sur le net
WEBSITE:
URL:
CONTACT:
ORGANIZER;CN=essentiel:https://epanews.fr/profile/essentiel
ATTACH;FMTTYPE="image/jpeg":
ATTENDEE;ROLE=REQ-PARTICIPANT;PARTSTAT=ACCEPTED;RSVP=TRUE;CN=essentiel
 :https://epanews.fr/profile/essentiel
END:VEVENT
END:VCALENDAR
